{"text_format":"1","workbook":"xlsx","n_sheets":5,"sheets":["事業所情報","入力_印刷","①","②","③"],"not_rendered":{"charts":0,"images":0,"macros":1,"external_links":0,"defined_names":3,"comments":0,"pivot_tables":0},"unopened":[],"bounds":{"document_bytes":16777216,"sheet_cells":100000,"rows_first":2000,"rows_last":500,"rows_between":2000,"halvings":0,"cell_chars":16384,"cell_head_chars":4096},"cells_cut":0,"cells_raw":0,"read":"whole","date_system":"1900"}

{"sheet":"事業所情報","index":0,"n_rows":9,"n_cols":8,"rows_kept":9,"cut":false,"hidden":false,"merged":[]}
["事業所情報"]
[null,"事業所番号",9876,null,null,null,null,1000]
[null,"事業所名","ABC株式会社",null,null,null,null,2000]
[null,"月額掛金",5000,null,null,null,null,3000]
[null,"郵便番号","123-4567",null,null,null,null,4000]
[null,"住所","山形県○○市○○３丁目２０番５号",null,null,null,null,5000]
[null,"代表者肩書き","代表取締役社長",null,null,null,null,6000]
[null,"代表者名","山田　太郎",null,null,null,null,7000]
[null,"電話番号","02-3232-1234"]

{"sheet":"入力_印刷","index":1,"n_rows":156,"n_cols":27,"rows_kept":156,"cut":false,"hidden":false,"merged":[[0,8,1,9],[2,16,5,16],[4,0,5,0],[4,1,4,2],[4,3,4,4],[4,6,5,6],[4,7,5,7],[4,8,5,8],[4,15,5,15],[4,17,5,17],[4,9,5,9],[4,10,5,10],[4,11,5,11],[4,12,5,12],[4,13,5,13],[4,14,5,14]]}
[null,"印刷指定",null,"届出に記載される提出日",null,null,"2020-04-01",null,"資格取得時届",null,"基加選択","第１年金のみ=1、第２年金実施=3"]
[null,1,"～",4,{"$f":"+D2-B2+1","v":4},{"$f":"IF(E2>4,\"印刷は4件まで\",\"\")","v":""},{"$f":"IF(E2>4,\"印刷は4件まで\",\"\")","v":""},null,null,null,"第１年金のみ",{"$f":"IF(K2=\"第１年金のみ\",1,3)","v":1}]
[null,"必須項目",null,null,null,null,null,null,null,null,null,null,null,null,"※↓「第２年金実施」を選択した場合は必須入力",null,"記入チェック","提出確認"]
[1,2,3,4,5,6,7,8,9,10,11,12,13,14]
["通し番号","漢字氏名",null,"カタカナ氏名",null,"西暦","生年月日","性別\n男=5、女=6","資格取得年月日","加入状況\n新規加入の場合は\n空欄","基礎年金番号\n10桁ハイフンなしで入力","転入=2、再加入=3、非該当=空欄","休職からの復職に\n該当=1、非該当=空欄","自動判定","基加02\n標準給与月額×α×0.01","基加03\n標準給与月額\n(例30万→300,000と入力)",null,"こちらはチェック用です、届出に記載されるのはG1のものです"]
[null,"姓","名","姓","名"]
[1,"瑞穂","太郎","ミズホ","タロウ",{"$f":"IF(TYPE(B7)=1,\"\",TEXT(G7,\"YYYY/MM/DD\"))","v":"2000/01/01"},"2000-01-01",5,"2020-04-01",null,1234567890,{"$f":"IF(J7=\"\",\"\",IF(J7=\"転入\",2,3))","v":""},{"$f":"IF(J7=\"休職からの復職\",1,\"\")","v":""},{"$f":"IF(AND(TYPE(B7)=2,COUNTBLANK(L7:M7)=2)=TRUE,0,IF(COUNTBLANK(L7:M7)=2,\"\",1))","v":0},null,null,{"$f":"IF(TYPE(B7)=1,\"\",IF(COUNTBLANK(B7:I7)+COUNTBLANK(K7)>0,\"記入漏れがあります\",IF($L$2=1,\"\",IF(COUNTBLANK(O7:P7)>0,\"記入漏れがあります\",\"\"))))","v":""},"2020-04-20"]
[{"$f":"IF(TYPE(B8)=2,+A7+1,\"\")","v":2},"山田","花子","ヤマダ","ハナコ","1978/05/19","1978-05-19",6,"2020-04-01","休職からの復職",987654321,{"$f":"IF(J8=\"\",\"\",IF(J8=\"転入\",2,3))","v":3},{"$f":"IF(J8=\"休職からの復職\",1,\"\")","v":1},1,null,null,"","2020-04-20",null,null,null,null,null,null,null,null,"転入"]
[{"$f":"IF(TYPE(B9)=2,+A8+1,\"\")","v":3},"鈴木","一郎","スズキ","イチロウ","1999/10/09","1999-10-09",5,"2020-04-01","転入",3456789012,2,"",1,null,null,"","2020-04-20",null,null,null,null,null,null,null,null,"再加入"]
[4,"佐藤","ゆり子","サトウ","ユリコ","2000/01/01","2000-01-01",6,"2020-04-01",null,654321987,"","",0,null,null,"","2020-04-20",null,null,null,null,null,null,null,null,"休職からの復職"]
[5,"年金","要子","ネンキン","ヨウコ","1978/05/19","1978-05-19",6,"2020-04-01","再加入",95123478,3,"",1,null,null,"","2020-04-20"]
[6,"高橋","憲一","タカハシ","ケンイチ","1999/10/09","1999-10-09",5,"2020-04-01",null,9632587410,"","",0,null,null,""]
["",null,null,null,null,"",null,null,null,null,null,"","","",null,null,""]
["",null,null,null,null,"",null,null,null,null,null,"","","",null,null,""]
["",null,null,null,null,"",null,null,null,null,null,"","","",null,null,""]
["",null,null,null,null,"",null,null,null,null,null,"","","",null,null,""]
["",null,null,null,null,"",null,null,null,null,null,"","","",null,null,""]
["",null,null,null,null,"",null,null,null,null,null,"","","",null,null,""]
["",null,null,null,null,"",null,null,null,null,null,"","","",null,null,""]
["",null,null,null,null,"",null,null,null,null,null,"","","",null,null,""]
["",null,null,null,null,"",null,null,null,null,null,"","","",null,null,""]
["",null,null,null,null,"",null,null,null,null,null,"","","",null,null,""]
["",null,null,null,null,"",null,null,null,null,null,"","","",null,null,""]
["",null,null,null,null,"",null,null,null,null,null,"","","",null,null,""]
["",null,null,null,null,"",null,null,null,null,null,"","","",null,null,""]
["",null,null,null,null,"",null,null,null,null,null,"","","",null,null,""]
["",null,null,null,null,"",null,null,null,null,null,"","","",null,null,""]
["",null,null,null,null,"",null,null,null,null,null,"","","",null,null,""]
["",null,null,null,null,"",null,null,null,null,null,"","","",null,null,""]
["",null,null,null,null,"",null,null,null,null,null,"","","",null,null,""]
["",null,null,null,null,"",null,null,null,null,null,"","","",null,null,""]
["",null,null,null,null,"",null,null,null,null,null,"","","",null,null,""]
["",null,null,null,null,"",null,null,null,null,null,"","","",null,null,""]
["",null,null,null,null,"",null,null,null,null,null,"","","",null,null,""]
["",null,null,null,null,"",null,null,null,null,null,"","","",null,null,""]
["",null,null,null,null,"",null,null,null,null,null,"","","",null,null,""]
["",null,null,null,null,"",null,null,null,null,null,"","","",null,null,""]
["",null,null,null,null,"",null,null,null,null,null,"","","",null,null,""]
["",null,null,null,null,{"$f":"IF(TYPE(B39)=1,\"\",TEXT(G39,\"YYYY/MM/DD\"))","v":""},null,null,null,null,null,"","",{"$f":"IF(AND(TYPE(B39)=2,COUNTBLANK(L39:M39)=2)=TRUE,0,IF(COUNTBLANK(L39:M39)=2,\"\",1))","v":""},null,null,{"$f":"IF(TYPE(B39)=1,\"\",IF(COUNTBLANK(B39:I39)+COUNTBLANK(K39)>0,\"記入漏れがあります\",IF($L$2=1,\"\",IF(COUNTBLANK(O39:P39)>0,\"記入漏れがあります\",\"\"))))","v":""}]
["",null,null,null,null,"",null,null,null,null,null,"","","",null,null,""]
["",null,null,null,null,"",null,null,null,null,null,"","","",null,null,""]
["",null,null,null,null,"",null,null,null,null,null,"","","",null,null,""]
["",null,null,null,null,"",null,null,null,null,null,"","","",null,null,""]
["",null,null,null,null,"",null,null,null,null,null,"","","",null,null,""]
["",null,null,null,null,"",null,null,null,null,null,"","","",null,null,""]
["",null,null,null,null,"",null,null,null,null,null,"","","",null,null,""]
["",null,null,null,null,"",null,null,null,null,null,"","","",null,null,""]
["",null,null,null,null,"",null,null,null,null,null,"","","",null,null,""]
["",null,null,null,null,"",null,null,null,null,null,"","","",null,null,""]
["",null,null,null,null,"",null,null,null,null,null,"","","",null,null,""]
["",null,null,null,null,"",null,null,null,null,null,"","","",null,null,""]
["",null,null,null,null,"",null,null,null,null,null,"","","",null,null,""]
["",null,null,null,null,"",null,null,null,null,null,"","","",null,null,""]
["",null,null,null,null,"",null,null,null,null,null,"","","",null,null,""]
["",null,null,null,null,"",null,null,null,null,null,"","","",null,null,""]
["",null,null,null,null,"",null,null,null,null,null,"","","",null,null,""]
["",null,null,null,null,"",null,null,null,null,null,"","","",null,null,""]
["",null,null,null,null,"",null,null,null,null,null,"","","",null,null,""]
["",null,null,null,null,"",null,null,null,null,null,"","","",null,null,""]
["",null,null,null,null,"",null,null,null,null,null,"","","",null,null,""]
["",null,null,null,null,"",null,null,null,null,null,"","","",null,null,""]
["",null,null,null,null,"",null,null,null,null,null,"","","",null,null,""]
["",null,null,null,null,"",null,null,null,null,null,"","","",null,null,""]
["",null,null,null,null,"",null,null,null,null,null,"","","",null,null,""]
["",null,null,null,null,"",null,null,null,null,null,"","","",null,null,""]
["",null,null,null,null,"",null,null,null,null,null,"","","",null,null,""]
["",null,null,null,null,"",null,null,null,null,null,"","","",null,null,""]
["",null,null,null,null,"",null,null,null,null,null,"","","",null,null,""]
["",null,null,null,null,"",null,null,null,null,null,"","","",null,null,""]
["",null,null,null,null,"",null,null,null,null,null,"","","",null,null,""]
["",null,null,null,null,{"$f":"IF(TYPE(B71)=1,\"\",TEXT(G71,\"YYYY/MM/DD\"))","v":""},null,null,null,null,null,"","",{"$f":"IF(AND(TYPE(B71)=2,COUNTBLANK(L71:M71)=2)=TRUE,0,IF(COUNTBLANK(L71:M71)=2,\"\",1))","v":""},null,null,{"$f":"IF(TYPE(B71)=1,\"\",IF(COUNTBLANK(B71:I71)+COUNTBLANK(K71)>0,\"記入漏れがあります\",IF($L$2=1,\"\",IF(COUNTBLANK(O71:P71)>0,\"記入漏れがあります\",\"\"))))","v":""}]
["",null,null,null,null,"",null,null,null,null,null,{"$f":"IF(J72=\"\",\"\",IF(J72=\"転入\",2,3))","v":""},{"$f":"IF(J72=\"休職からの復職\",1,\"\")","v":""},"",null,null,""]
[{"$f":"IF(TYPE(B73)=2,+A72+1,\"\")","v":""},null,null,null,null,"",null,null,null,null,null,"","","",null,null,""]
["",null,null,null,null,"",null,null,null,null,null,"","","",null,null,""]
["",null,null,null,null,"",null,null,null,null,null,"","","",null,null,""]
["",null,null,null,null,"",null,null,null,null,null,"","","",null,null,""]
["",null,null,null,null,"",null,null,null,null,null,"","","",null,null,""]
["",null,null,null,null,"",null,null,null,null,null,"","","",null,null,""]
["",null,null,null,null,"",null,null,null,null,null,"","","",null,null,""]
["",null,null,null,null,"",null,null,null,null,null,"","","",null,null,""]
["",null,null,null,null,"",null,null,null,null,null,"","","",null,null,""]
["",null,null,null,null,"",null,null,null,null,null,"","","",null,null,""]
["",null,null,null,null,"",null,null,null,null,null,"","","",null,null,""]
["",null,null,null,null,"",null,null,null,null,null,"","","",null,null,""]
["",null,null,null,null,"",null,null,null,null,null,"","","",null,null,""]
["",null,null,null,null,"",null,null,null,null,null,"","","",null,null,""]
["",null,null,null,null,"",null,null,null,null,null,"","","",null,null,""]
["",null,null,null,null,"",null,null,null,null,null,"","","",null,null,""]
["",null,null,null,null,"",null,null,null,null,null,"","","",null,null,""]
["",null,null,null,null,"",null,null,null,null,null,"","","",null,null,""]
["",null,null,null,null,"",null,null,null,null,null,"","","",null,null,""]
["",null,null,null,null,"",null,null,null,null,null,"","","",null,null,""]
["",null,null,null,null,"",null,null,null,null,null,"","","",null,null,""]
["",null,null,null,null,"",null,null,null,null,null,"","","",null,null,""]
["",null,null,null,null,"",null,null,null,null,null,"","","",null,null,""]
["",null,null,null,null,"",null,null,null,null,null,"","","",null,null,""]
["",null,null,null,null,"",null,null,null,null,null,"","","",null,null,""]
["",null,null,null,null,"",null,null,null,null,null,"","","",null,null,""]
["",null,null,null,null,"",null,null,null,null,null,"","","",null,null,""]
["",null,null,null,null,"",null,null,null,null,null,"","","",null,null,""]
["",null,null,null,null,"",null,null,null,null,null,"","","",null,null,""]
["",null,null,null,null,"",null,null,null,null,null,"","","",null,null,""]
["",null,null,null,null,{"$f":"IF(TYPE(B103)=1,\"\",TEXT(G103,\"YYYY/MM/DD\"))","v":""},null,null,null,null,null,"","",{"$f":"IF(AND(TYPE(B103)=2,COUNTBLANK(L103:M103)=2)=TRUE,0,IF(COUNTBLANK(L103:M103)=2,\"\",1))","v":""},null,null,{"$f":"IF(TYPE(B103)=1,\"\",IF(COUNTBLANK(B103:I103)+COUNTBLANK(K103)>0,\"記入漏れがあります\",IF($L$2=1,\"\",IF(COUNTBLANK(O103:P103)>0,\"記入漏れがあります\",\"\"))))","v":""}]
["",null,null,null,null,"",null,null,null,null,null,"","","",null,null,""]
["",null,null,null,null,"",null,null,null,null,null,"","","",null,null,""]
["",null,null,null,null,"",null,null,null,null,null,"","","",null,null,""]
["",null,null,null,null,"",null,null,null,null,null,"","","",null,null,""]
["",null,null,null,null,"",null,null,null,null,null,"","","",null,null,""]
["",null,null,null,null,"",null,null,null,null,null,"","","",null,null,""]
["",null,null,null,null,"",null,null,null,null,null,"","","",null,null,""]
["",null,null,null,null,"",null,null,null,null,null,"","","",null,null,""]
["",null,null,null,null,"",null,null,null,null,null,"","","",null,null,""]
["",null,null,null,null,"",null,null,null,null,null,"","","",null,null,""]
["",null,null,null,null,"",null,null,null,null,null,"","","",null,null,""]
["",null,null,null,null,"",null,null,null,null,null,"","","",null,null,""]
["",null,null,null,null,"",null,null,null,null,null,"","","",null,null,""]
["",null,null,null,null,"",null,null,null,null,null,"","","",null,null,""]
["",null,null,null,null,"",null,null,null,null,null,"","","",null,null,""]
["",null,null,null,null,"",null,null,null,null,null,"","","",null,null,""]
["",null,null,null,null,"",null,null,null,null,null,"","","",null,null,""]
["",null,null,null,null,"",null,null,null,null,null,"","","",null,null,""]
["",null,null,null,null,"",null,null,null,null,null,"","","",null,null,""]
["",null,null,null,null,"",null,null,null,null,null,"","","",null,null,""]
["",null,null,null,null,"",null,null,null,null,null,"","","",null,null,""]
["",null,null,null,null,"",null,null,null,null,null,"","","",null,null,""]
["",null,null,null,null,"",null,null,null,null,null,"","","",null,null,""]
["",null,null,null,null,"",null,null,null,null,null,"","","",null,null,""]
["",null,null,null,null,"",null,null,null,null,null,"","","",null,null,""]
["",null,null,null,null,"",null,null,null,null,null,"","","",null,null,""]
["",null,null,null,null,"",null,null,null,null,null,"","","",null,null,""]
["",null,null,null,null,"",null,null,null,null,null,"","","",null,null,""]
["",null,null,null,null,"",null,null,null,null,null,"","","",null,null,""]
["",null,null,null,null,"",null,null,null,null,null,"","","",null,null,""]
["",null,null,null,null,"",null,null,null,null,null,"","","",null,null,""]
["",null,null,null,null,{"$f":"IF(TYPE(B135)=1,\"\",TEXT(G135,\"YYYY/MM/DD\"))","v":""},null,null,null,null,null,"","",{"$f":"IF(AND(TYPE(B135)=2,COUNTBLANK(L135:M135)=2)=TRUE,0,IF(COUNTBLANK(L135:M135)=2,\"\",1))","v":""},null,null,{"$f":"IF(TYPE(B135)=1,\"\",IF(COUNTBLANK(B135:I135)+COUNTBLANK(K135)>0,\"記入漏れがあります\",IF($L$2=1,\"\",IF(COUNTBLANK(O135:P135)>0,\"記入漏れがあります\",\"\"))))","v":""}]
["",null,null,null,null,"",null,null,null,null,null,{"$f":"IF(J136=\"\",\"\",IF(J136=\"転入\",2,3))","v":""},{"$f":"IF(J136=\"休職からの復職\",1,\"\")","v":""},"",null,null,""]
[{"$f":"IF(TYPE(B137)=2,+A136+1,\"\")","v":""},null,null,null,null,"",null,null,null,null,null,"","","",null,null,""]
["",null,null,null,null,"",null,null,null,null,null,"","","",null,null,""]
["",null,null,null,null,"",null,null,null,null,null,"","","",null,null,""]
["",null,null,null,null,"",null,null,null,null,null,"","","",null,null,""]
["",null,null,null,null,"",null,null,null,null,null,"","","",null,null,""]
["",null,null,null,null,"",null,null,null,null,null,"","","",null,null,""]
["",null,null,null,null,"",null,null,null,null,null,"","","",null,null,""]
["",null,null,null,null,"",null,null,null,null,null,"","","",null,null,""]
["",null,null,null,null,"",null,null,null,null,null,"","","",null,null,""]
["",null,null,null,null,"",null,null,null,null,null,"","","",null,null,""]
["",null,null,null,null,"",null,null,null,null,null,"","","",null,null,""]
["",null,null,null,null,"",null,null,null,null,null,"","","",null,null,""]
["",null,null,null,null,"",null,null,null,null,null,"","","",null,null,""]
["",null,null,null,null,"",null,null,null,null,null,"","","",null,null,""]
["",null,null,null,null,"",null,null,null,null,null,"","","",null,null,""]
["",null,null,null,null,"",null,null,null,null,null,"","","",null,null,""]
["",null,null,null,null,"",null,null,null,null,null,"","","",null,null,""]
["",null,null,null,null,"",null,null,null,null,null,"","","",null,null,""]
["",null,null,null,null,"",null,null,null,null,null,"","","",null,null,""]
["",null,null,null,null,"",null,null,null,null,null,"","","",null,null,""]

{"sheet":"①","index":2,"n_rows":60,"n_cols":67,"rows_kept":60,"cut":false,"hidden":false,"merged":[[0,1,0,5],[0,7,1,21],[0,59,1,65],[0,66,1,67],[1,1,1,5],[4,8,4,12],[4,14,4,20],[4,53,4,55],[4,56,4,58],[4,59,4,61],[4,62,4,64],[4,65,4,67],[6,3,6,13],[6,14,6,21],[6,22,7,23],[6,24,6,31],[6,32,6,39],[7,3,7,13],[7,14,7,21],[7,24,7,31],[7,32,7,39],[8,24,8,33],[8,34,8,68],[9,3,10,3],[9,4,10,4],[9,5,10,11],[9,12,9,18],[9,19,9,21],[9,22,10,24],[9,25,10,25],[9,26,10,26],[8,3,8,13],[8,14,8,15],[8,16,8,17],[8,18,8,19],[8,20,8,21],[8,22,8,23],[9,49,10,55],[9,56,9,62],[9,63,9,65],[9,66,10,68],[10,12,10,18],[10,19,10,21],[10,34,10,40],[10,41,10,43],[10,56,10,62],[10,63,10,65],[9,27,10,33],[9,34,9,40],[9,41,9,43],[9,44,10,46],[9,47,10,47],[9,48,10,48],[12,32,14,33],[13,4,14,7],[13,10,14,13],[13,16,14,17],[13,18,14,19],[13,20,14,21],[13,26,14,27],[13,28,14,29],[13,30,14,31],[12,3,12,4],[12,5,12,7],[12,10,12,13],[12,14,14,15],[12,22,14,23],[12,24,14,25],[15,14,15,15],[15,16,15,17],[15,24,15,33],[16,3,18,3],[16,12,18,12],[16,19,18,20],[16,21,18,21],[16,22,18,23],[16,24,18,24],[16,25,18,25],[20,12,21,12],[20,13,21,13],[16,56,18,56],[16,63,18,64],[16,65,18,65],[16,66,18,67],[16,68,18,68],[17,5,18,5],[17,6,18,6],[17,7,18,7],[17,8,18,8],[17,9,18,9],[16,34,18,34],[16,41,18,42],[16,43,18,43],[16,44,18,45],[16,46,18,46],[16,47,18,47],[17,55,18,55],[17,49,18,49],[17,50,18,50],[17,51,18,51],[17,52,18,52],[17,53,18,53],[17,54,18,54],[24,28,25,29],[24,30,25,31],[26,14,26,15],[26,16,26,17],[26,24,26,33],[19,3,21,5],[19,6,19,9],[20,6,21,6],[20,7,21,7],[20,8,21,8],[20,10,21,10],[17,31,18,31],[17,32,18,32],[17,33,18,33],[17,10,18,10],[17,11,18,11],[17,27,18,27],[17,28,18,28],[17,29,18,29],[17,30,18,30],[20,11,21,11],[23,14,25,15],[23,22,25,23],[23,24,25,25],[23,32,25,33],[24,4,25,7],[24,10,25,13],[24,16,25,17],[24,18,25,19],[24,20,25,21],[24,26,25,27],[23,3,23,4],[23,5,23,7],[23,10,23,13],[27,68,29,68],[28,8,29,8],[28,9,29,9],[28,10,29,10],[28,11,29,11],[28,27,29,27],[28,28,29,28],[28,29,29,29],[28,30,29,30],[28,31,29,31],[27,46,29,46],[27,47,29,47],[27,56,29,56],[27,63,29,64],[27,65,29,65],[27,66,29,67],[28,49,29,49],[28,50,29,50],[28,51,29,51],[28,52,29,52],[27,24,29,24],[27,25,29,25],[27,34,29,34],[27,41,29,42],[28,53,29,53],[28,54,29,54],[28,55,29,55],[30,3,32,5],[30,6,30,9],[31,6,32,6],[31,7,32,7],[31,8,32,8],[31,10,32,10],[31,11,32,11],[27,43,29,43],[27,44,29,45],[28,32,29,32],[28,33,29,33],[27,3,29,3],[27,12,29,12],[27,19,29,20],[27,21,29,21],[27,22,29,23],[28,7,29,7],[28,6,29,6],[28,5,29,5],[38,3,40,3],[38,12,40,12],[38,19,40,20],[38,21,40,21],[38,22,40,23],[38,24,40,24],[31,12,32,12],[31,13,32,13],[34,3,34,4],[34,5,34,7],[34,10,34,13],[34,14,36,15],[34,22,36,23],[34,24,36,25],[35,4,36,7],[35,10,36,13],[35,16,36,17],[35,18,36,19],[35,20,36,21],[39,7,40,7],[39,6,40,6],[39,5,40,5],[35,26,36,27],[35,28,36,29],[38,56,40,56],[38,63,40,64],[39,8,40,8],[39,9,40,9],[39,10,40,10],[39,11,40,11],[37,14,37,15],[37,16,37,17],[37,24,37,33],[35,30,36,31],[34,32,36,33],[38,65,40,65],[38,66,40,67],[38,68,40,68],[39,54,40,54],[39,55,40,55],[38,25,40,25],[38,34,40,34],[38,41,40,42],[38,43,40,43],[38,44,40,45],[38,46,40,46],[39,29,40,29],[39,30,40,30],[39,31,40,31],[39,32,40,32],[39,33,40,33],[39,49,40,49],[39,50,40,50],[39,51,40,51],[39,52,40,52],[39,53,40,53],[39,27,40,27],[39,28,40,28],[38,47,40,47],[42,11,43,11],[42,12,43,12],[42,13,43,13],[45,3,45,4],[45,5,45,7],[45,10,45,13],[41,3,43,5],[41,6,41,9],[42,6,43,6],[42,7,43,7],[42,8,43,8],[42,10,43,10],[46,28,47,29],[46,30,47,31],[48,14,48,15],[48,16,48,17],[48,24,48,33],[49,3,51,3],[49,12,51,12],[49,19,51,20],[49,21,51,21],[49,22,51,23],[45,14,47,15],[45,22,47,23],[45,24,47,25],[45,32,47,33],[46,4,47,7],[46,10,47,13],[46,16,47,17],[46,18,47,19],[46,20,47,21],[46,26,47,27],[50,7,51,7],[50,6,51,6],[50,5,51,5],[49,68,51,68],[50,8,51,8],[50,9,51,9],[50,10,51,10],[50,11,51,11],[50,27,51,27],[50,28,51,28],[50,29,51,29],[50,30,51,30],[50,31,51,31],[49,46,51,46],[49,47,51,47],[49,56,51,56],[49,63,51,64],[49,65,51,65],[49,66,51,67],[50,49,51,49],[50,50,51,50],[50,51,51,51],[50,52,51,52],[49,24,51,24],[49,25,51,25],[49,34,51,34],[49,41,51,42],[56,41,56,50],[50,53,51,53],[50,54,51,54],[50,55,51,55],[52,3,54,5],[52,6,52,9],[53,6,54,6],[53,7,54,7],[53,8,54,8],[53,10,54,10],[53,11,54,11],[49,43,51,43],[49,44,51,45],[50,32,51,32],[50,33,51,33],[57,2,57,6],[57,7,57,38],[58,2,58,6],[58,7,58,25],[59,2,59,6],[59,7,59,38],[53,12,54,12],[53,13,54,13],[56,2,56,6],[56,7,56,11],[56,12,56,38]]}
[null,"企　業　年　金",null,null,null,null,null,"加入者資格取得届",null,null,null,null,null,null,null,null,null,null,null,null,null,null,null,null,null,null,null,null,null,null,null,null,null,null,null,null,null,null,null,null,null,null,null,null,null,null,null,null,null,null,null,null,null,null,null,null,null,null,null,"企業年金基金用",null,null,null,null,null,null,1]
[null,"基　　　　　　金"]
[]
[null,null,null,null,null,null,null,null,null,null,null,null,null,null,null,null,null,null,null,null,null,null,null,null,null,null,null,null,null,null,null,null,null,null,null,null,null,null,null,null,null,null,null,null,null,null,null,null,null,null,null,null,null,null,null,null,null,null,null,null,null,"事","→","基"]
[null,null,null,null,null,null,null,null,"契約番号",null,null,null,null,null,"事業所番号",null,null,null,null,null,null,null,null,null,null,null,null,null,null,null,null,null,null,null,null,null,null,null,null,null,null,null,null,null,null,null,null,null,null,null,null,null,null,"常務理事",null,null,"事務長",null,null,"課（係）長",null,null,null,null,null,"係"]
[null,null,null,null,null,null,null,null,8,0,4,2,8,null,null,null,null,{"$f":"IF(事業所情報!C2<999,\"\",LEFT(事業所情報!C2,1))","v":"9"},{"$f":"LEFT(RIGHT(事業所情報!C2,3))","v":"8"},{"$f":"LEFT(RIGHT(事業所情報!C2,2))","v":"7"},{"$f":"LEFT(RIGHT(事業所情報!C2,1))","v":"6"}]
[null,null,null,"フ　　　リ　　　ガ　　　ナ",null,null,null,null,null,null,null,null,null,null,"生　年　月　日",null,null,null,null,null,null,null,"性別",null,"資格取得年月日",null,null,null,null,null,null,null,"入社年月日"]
[null,null,null,"加　入　者　の　氏　名",null,null,null,null,null,null,null,null,null,null,"（西暦）",null,null,null,null,null,null,null,null,null,"（西暦）",null,null,null,null,null,null,null,"（西暦）"]
[null,null,null,"加 　入 　者　 番 　号",null,null,null,null,null,null,null,null,null,null,"ＣＤ",null,"転入・再加入",null,"職種",null,"コ-ド1",null,"コ－ド2",null,"基礎年金番号",null,null,null,null,null,null,null,null,null,"備　　　　　　　　　　　　　　　　　　　　　考"]
[null,null,null,"開始サイン","給付区分","標準給与月額",null,null,null,null,null,null,"みなし資格取得年月日",null,null,null,null,null,null,"加入者",null,null,"通算有無",null,null,"開始サイン","給付区分","標準給与月額",null,null,null,null,null,null,"みなし資格取得年月日",null,null,null,null,null,null,"加入者",null,null,"通算有無",null,null,"開始サイン","給付区分","標準給与月額",null,null,null,null,null,null,"みなし資格取得年月日",null,null,null,null,null,null,"加入者",null,null,"通算有無"]
[null,null,null,null,null,null,null,null,null,null,null,null,"（西暦）",null,null,null,null,null,null,"拠出有無区分",null,null,null,null,null,null,null,null,null,null,null,null,null,null,"（西暦）",null,null,null,null,null,null,"拠出有無区分",null,null,null,null,null,null,null,null,null,null,null,null,null,null,"（西暦）",null,null,null,null,null,null,"拠出有無区分"]
[]
[null,null,null,"（フリガナ）",null,{"$f":"VLOOKUP(印刷開始番号,入力データ,4,0)","v":"ミズホ"},null,null,null,null,{"$f":"VLOOKUP(印刷開始番号,入力データ,5,0)","v":"タロウ"},null,null,null,{"$f":"IF(LEFT(VLOOKUP(印刷開始番号,入力データ,入力_印刷!$F$4,0),2)=\"19\",\"19\",\"20\")","v":"20"},null,null,"年",null,"月",null,"日",{"$f":"IF(VLOOKUP(印刷開始番号,入力データ,入力_印刷!$H$4,0)=5,\"男\",IF(VLOOKUP(印刷開始番号,入力データ,入力_印刷!$H$4,0)=6,\"女\",\"\"))","v":"男"},null,20,null,null,"年",null,"月",null,"日","19\n・\n20",null,null,"年",null,"月",null,"日"]
[null,null,null,"（氏）",{"$f":"VLOOKUP(印刷開始番号,入力データ,2,0)","v":"瑞穂"},null,null,null,null,"（名）",{"$f":"VLOOKUP(印刷開始番号,入力データ,3,0)","v":"太郎"},null,null,null,null,null,{"$f":"TEXT(VLOOKUP(印刷開始番号,入力データ,入力_印刷!$G$4,0),\"yy\")","v":"00"},null,{"$f":"TEXT(VLOOKUP(印刷開始番号,入力データ,入力_印刷!$F$4,0),\"mm\")","v":"01"},null,{"$f":"TEXT(VLOOKUP(印刷開始番号,入力データ,入力_印刷!$F$4,0),\"dd\")","v":"01"},null,null,null,null,null,{"$f":"TEXT(VLOOKUP(印刷開始番号,入力データ,入力_印刷!$I$4,0),\"yy\")","v":"20"},null,{"$f":"TEXT(VLOOKUP(印刷開始番号,入力データ,入力_印刷!$I$4,0),\"mm\")","v":"04"},null,{"$f":"TEXT(VLOOKUP(印刷開始番号,入力データ,入力_印刷!$I$4,0),\"dd\")","v":"01"}]
[]
[null,null,null,null,null,null,null,null,null,null,null,null,null,null,"ＣＤ",null,{"$f":"IF(VLOOKUP(印刷開始番号,入力データ,入力_印刷!$N$4,0)=0,\"\",IF(VLOOKUP(印刷開始番号,入力データ,入力_印刷!$L$4,0)=2,\"転入\",\"再加入\"))","v":""},null,"職","種",null,null,null,null,{"$f":"DBCS(TEXT(VLOOKUP(印刷開始番号,入力データ,入力_印刷!$K$4,0),\"0000000000\"))","v":"１２３４５６７８９０"}]
[null,null,null,1,null,null,null,null,null,null,null,"（円）","19\n・\n20",null,"年",null,"月",null,"日","有：「1」\n\n無：未記入",null,null,"有：「1」\n\n無：「0」",null,null,{"$f":"IF(入力_印刷!$L$2=3,2,\"\")","v":""},null,null,null,null,null,null,null,"（円）","19\n・\n20",null,"年",null,"月",null,"日","有：「1」\n\n無：未記入",null,null,"有：「1」\n\n無：「0」",null,null,{"$f":"IF(入力_印刷!$L$2=3,3,\"\")","v":""},null,null,null,null,null,null,null,"（円）","19\n・\n20",null,"年",null,"月",null,"日","有：「1」\n\n無：未記入",null,null,"有：「1」\n\n無：「0」"]
[null,null,null,null,null,null,null,null,{"$f":"事業所情報!$C$4/1000","v":5},0,0,0,null,null,null,null,null,null,null,null,null,null,null,null,null,null,null,{"$f":"IF(入力_印刷!$L$2=3,IF(LEN(VLOOKUP(印刷開始番号,入力データ,15,0))-6<=0,\"\",MID(VLOOKUP(印刷開始番号,入力データ,15,0),LEN(VLOOKUP(印刷開始番号,入力データ,15,0))-6,1)),\"\")","v":""},{"$f":"IF(入力_印刷!$L$2=3,IF(LEN(VLOOKUP(印刷開始番号,入力データ,15,0))-5<=0,\"\",MID(VLOOKUP(印刷開始番号,入力データ,15,0),LEN(VLOOKUP(印刷開始番号,入力データ,15,0))-5,1)),\"\")","v":""},{"$f":"IF(入力_印刷!$L$2=3,IF(LEN(VLOOKUP(印刷開始番号,入力データ,15,0))-4<=0,\"\",MID(VLOOKUP(印刷開始番号,入力データ,15,0),LEN(VLOOKUP(印刷開始番号,入力データ,15,0))-4,1)),\"\")","v":""},{"$f":"IF(入力_印刷!$L$2=3,IF(LEN(VLOOKUP(印刷開始番号,入力データ,15,0))-3<=0,\"\",MID(VLOOKUP(印刷開始番号,入力データ,15,0),LEN(VLOOKUP(印刷開始番号,入力データ,15,0))-3,1)),\"\")","v":""},{"$f":"IF(入力_印刷!$L$2=3,IF(LEN(VLOOKUP(印刷開始番号,入力データ,15,0))-2<=0,\"\",MID(VLOOKUP(印刷開始番号,入力データ,15,0),LEN(VLOOKUP(印刷開始番号,入力データ,15,0))-2,1)),\"\")","v":""},{"$f":"IF(入力_印刷!$L$2=3,IF(LEN(VLOOKUP(印刷開始番号,入力データ,15,0))-1<=0,\"\",MID(VLOOKUP(印刷開始番号,入力データ,15,0),LEN(VLOOKUP(印刷開始番号,入力データ,15,0))-1,1)),\"\")","v":""},{"$f":"IF(入力_印刷!$L$2=3,IF(LEN(VLOOKUP(印刷開始番号,入力データ,15,0))<=0,\"\",MID(VLOOKUP(印刷開始番号,入力データ,15,0),LEN(VLOOKUP(印刷開始番号,入力データ,15,0)),1)),\"\")","v":""},null,null,null,null,null,null,null,null,null,null,null,null,null,null,null,{"$f":"IF(入力_印刷!$L$2=3,IF(LEN(VLOOKUP(印刷開始番号,入力データ,16,0))-6<=0,\"\",MID(VLOOKUP(印刷開始番号,入力データ,16,0),LEN(VLOOKUP(印刷開始番号,入力データ,16,0))-6,1)),\"\")","v":""},{"$f":"IF(入力_印刷!$L$2=3,IF(LEN(VLOOKUP(印刷開始番号,入力データ,16,0))-5<=0,\"\",MID(VLOOKUP(印刷開始番号,入力データ,16,0),LEN(VLOOKUP(印刷開始番号,入力データ,16,0))-5,1)),\"\")","v":""},{"$f":"IF(入力_印刷!$L$2=3,IF(LEN(VLOOKUP(印刷開始番号,入力データ,16,0))-4<=0,\"\",MID(VLOOKUP(印刷開始番号,入力データ,16,0),LEN(VLOOKUP(印刷開始番号,入力データ,16,0))-4,1)),\"\")","v":""},{"$f":"IF(入力_印刷!$L$2=3,IF(LEN(VLOOKUP(印刷開始番号,入力データ,16,0))-3<=0,\"\",MID(VLOOKUP(印刷開始番号,入力データ,16,0),LEN(VLOOKUP(印刷開始番号,入力データ,16,0))-3,1)),\"\")","v":""},{"$f":"IF(入力_印刷!$L$2=3,IF(LEN(VLOOKUP(印刷開始番号,入力データ,16,0))-2<=0,\"\",MID(VLOOKUP(印刷開始番号,入力データ,16,0),LEN(VLOOKUP(印刷開始番号,入力データ,16,0))-2,1)),\"\")","v":""},{"$f":"IF(入力_印刷!$L$2=3,IF(LEN(VLOOKUP(印刷開始番号,入力データ,16,0))-1<=0,\"\",MID(VLOOKUP(印刷開始番号,入力データ,16,0),LEN(VLOOKUP(印刷開始番号,入力データ,16,0))-1,1)),\"\")","v":""},{"$f":"IF(入力_印刷!$L$2=3,IF(LEN(VLOOKUP(印刷開始番号,入力データ,16,0))<=0,\"\",MID(VLOOKUP(印刷開始番号,入力データ,16,0),LEN(VLOOKUP(印刷開始番号,入力データ,16,0)),1)),\"\")","v":""}]
[]
[null,null,null,"加入者\n住　所",null,null,"（フリガナ）"]
[null,null,null,null,null,null,null,null,null,null,null,null,null,null,null,null,null,null,null,null,null,"都","道"]
[null,null,null,null,null,null,null,null,null,null,null,null,null,null,null,null,null,null,null,null,null,"府","県"]
[]
[null,null,null,"（フリガナ）",null,{"$f":"IF(印刷件数>1,VLOOKUP(印刷開始番号+1,入力データ,4,0),\"\")","v":"ヤマダ"},null,null,null,null,{"$f":"IF(印刷件数>1,VLOOKUP(印刷開始番号+1,入力データ,5,0),\"\")","v":"ハナコ"},null,null,null,{"$f":"IF(印刷件数<2,\"\",IF(LEFT(VLOOKUP(印刷開始番号+1,入力データ,入力_印刷!$F$4,0),2)=\"19\",\"19\",\"20\"))","v":"19"},null,null,"年",null,"月",null,"日",{"$f":"IF(印刷件数<2,\"\",IF(VLOOKUP(印刷開始番号+1,入力データ,入力_印刷!$H$4,0)=5,\"男\",IF(VLOOKUP(印刷開始番号+1,入力データ,入力_印刷!$H$4,0)=6,\"女\",\"\")))","v":"女"},null,20,null,null,"年",null,"月",null,"日","19\n・\n20",null,null,"年",null,"月",null,"日"]
[null,null,null,"（氏）",{"$f":"IF(印刷件数>1,VLOOKUP(印刷開始番号+1,入力データ,2,0),\"\")","v":"山田"},null,null,null,null,"（名）",{"$f":"IF(印刷件数>1,VLOOKUP(印刷開始番号+1,入力データ,3,0),\"\")","v":"花子"},null,null,null,null,null,{"$f":"IF(印刷件数<2,\"\",TEXT(VLOOKUP(印刷開始番号+1,入力データ,入力_印刷!$G$4,0),\"yy\"))","v":"78"},null,{"$f":"IF(印刷件数<2,\"\",TEXT(VLOOKUP(印刷開始番号+1,入力データ,入力_印刷!$G$4,0),\"mm\"))","v":"05"},null,{"$f":"IF(印刷件数<2,\"\",TEXT(VLOOKUP(印刷開始番号+1,入力データ,入力_印刷!$G$4,0),\"dd\"))","v":"19"},null,null,null,null,null,{"$f":"IF(印刷件数<2,\"\",TEXT(VLOOKUP(印刷開始番号+1,入力データ,入力_印刷!$I$4,0),\"yy\"))","v":"20"},null,{"$f":"IF(印刷件数<2,\"\",TEXT(VLOOKUP(印刷開始番号+1,入力データ,入力_印刷!$I$4,0),\"mm\"))","v":"04"},null,{"$f":"IF(印刷件数<2,\"\",TEXT(VLOOKUP(印刷開始番号+1,入力データ,入力_印刷!$I$4,0),\"dd\"))","v":"01"}]
[]
[null,null,null,null,null,null,null,null,null,null,null,null,null,null,"ＣＤ",null,{"$f":"IF(印刷件数<2,\"\",IF(VLOOKUP(印刷開始番号+1,入力データ,入力_印刷!$N$4,0)=0,\"\",IF(VLOOKUP(印刷開始番号+1,入力データ,入力_印刷!$L$4,0)=2,\"転入\",\"再加入\")))","v":"再加入"},null,"職","種",null,null,null,null,{"$f":"IF(印刷件数<2,\"\",DBCS(TEXT(VLOOKUP(印刷開始番号+1,入力データ,入力_印刷!$K$4,0),\"0000000000\")))","v":"０９８７６５４３２１"}]
[null,null,null,1,null,null,null,null,null,null,null,"（円）","19\n・\n20",null,"年",null,"月",null,"日","有：「1」\n\n無：未記入",null,null,"有：「1」\n\n無：「0」",null,null,{"$f":"IF(印刷件数<2,\"\",IF(入力_印刷!$L$2=3,2,\"\"))","v":""},null,null,null,null,null,null,null,"（円）","19\n・\n20",null,"年",null,"月",null,"日","有：「1」\n\n無：未記入",null,null,"有：「1」\n\n無：「0」",null,null,{"$f":"IF(印刷件数<2,\"\",IF(入力_印刷!$L$2=3,3,\"\"))","v":""},null,null,null,null,null,null,null,"（円）","19\n・\n20",null,"年",null,"月",null,"日","有：「1」\n\n無：未記入",null,null,"有：「1」\n\n無：「0」"]
[null,null,null,null,null,null,null,null,{"$f":"IF(印刷件数<2,\"\",事業所情報!$C$4/1000)","v":5},0,0,0,null,null,null,null,null,null,null,null,null,null,null,null,null,null,null,{"$f":"IF(印刷件数>1,IF(入力_印刷!$L$2=3,IF(LEN(VLOOKUP(印刷開始番号+1,入力データ,15,0))-6<=0,\"\",MID(VLOOKUP(印刷開始番号+1,入力データ,15,0),LEN(VLOOKUP(印刷開始番号+1,入力データ,15,0))-6,1)),\"\"),\"\")","v":""},{"$f":"IF(印刷件数>1,IF(入力_印刷!$L$2=3,IF(LEN(VLOOKUP(印刷開始番号+1,入力データ,15,0))-5<=0,\"\",MID(VLOOKUP(印刷開始番号+1,入力データ,15,0),LEN(VLOOKUP(印刷開始番号+1,入力データ,15,0))-5,1)),\"\"),\"\")","v":""},{"$f":"IF(印刷件数>1,IF(入力_印刷!$L$2=3,IF(LEN(VLOOKUP(印刷開始番号+1,入力データ,15,0))-4<=0,\"\",MID(VLOOKUP(印刷開始番号+1,入力データ,15,0),LEN(VLOOKUP(印刷開始番号+1,入力データ,15,0))-4,1)),\"\"),\"\")","v":""},{"$f":"IF(印刷件数>1,IF(入力_印刷!$L$2=3,IF(LEN(VLOOKUP(印刷開始番号+1,入力データ,15,0))-3<=0,\"\",MID(VLOOKUP(印刷開始番号+1,入力データ,15,0),LEN(VLOOKUP(印刷開始番号+1,入力データ,15,0))-3,1)),\"\"),\"\")","v":""},{"$f":"IF(印刷件数>1,IF(入力_印刷!$L$2=3,IF(LEN(VLOOKUP(印刷開始番号+1,入力データ,15,0))-2<=0,\"\",MID(VLOOKUP(印刷開始番号+1,入力データ,15,0),LEN(VLOOKUP(印刷開始番号+1,入力データ,15,0))-2,1)),\"\"),\"\")","v":""},{"$f":"IF(印刷件数>1,IF(入力_印刷!$L$2=3,IF(LEN(VLOOKUP(印刷開始番号+1,入力データ,15,0))-1<=0,\"\",MID(VLOOKUP(印刷開始番号+1,入力データ,15,0),LEN(VLOOKUP(印刷開始番号+1,入力データ,15,0))-1,1)),\"\"),\"\")","v":""},{"$f":"IF(印刷件数>1,IF(入力_印刷!$L$2=3,IF(LEN(VLOOKUP(印刷開始番号+1,入力データ,15,0))<=0,\"\",MID(VLOOKUP(印刷開始番号+1,入力データ,15,0),LEN(VLOOKUP(印刷開始番号+1,入力データ,15,0)),1)),\"\"),\"\")","v":""},null,null,null,null,null,null,null,null,null,null,null,null,null,null,null,{"$f":"IF(印刷件数>1,IF(入力_印刷!$L$2=3,IF(LEN(VLOOKUP(印刷開始番号+1,入力データ,16,0))-6<=0,\"\",MID(VLOOKUP(印刷開始番号+1,入力データ,16,0),LEN(VLOOKUP(印刷開始番号+1,入力データ,16,0))-6,1)),\"\"),\"\")","v":""},{"$f":"IF(印刷件数>1,IF(入力_印刷!$L$2=3,IF(LEN(VLOOKUP(印刷開始番号+1,入力データ,16,0))-5<=0,\"\",MID(VLOOKUP(印刷開始番号+1,入力データ,16,0),LEN(VLOOKUP(印刷開始番号+1,入力データ,16,0))-5,1)),\"\"),\"\")","v":""},{"$f":"IF(印刷件数>1,IF(入力_印刷!$L$2=3,IF(LEN(VLOOKUP(印刷開始番号+1,入力データ,16,0))-4<=0,\"\",MID(VLOOKUP(印刷開始番号+1,入力データ,16,0),LEN(VLOOKUP(印刷開始番号+1,入力データ,16,0))-4,1)),\"\"),\"\")","v":""},{"$f":"IF(印刷件数>1,IF(入力_印刷!$L$2=3,IF(LEN(VLOOKUP(印刷開始番号+1,入力データ,16,0))-3<=0,\"\",MID(VLOOKUP(印刷開始番号+1,入力データ,16,0),LEN(VLOOKUP(印刷開始番号+1,入力データ,16,0))-3,1)),\"\"),\"\")","v":""},{"$f":"IF(印刷件数>1,IF(入力_印刷!$L$2=3,IF(LEN(VLOOKUP(印刷開始番号+1,入力データ,16,0))-2<=0,\"\",MID(VLOOKUP(印刷開始番号+1,入力データ,16,0),LEN(VLOOKUP(印刷開始番号+1,入力データ,16,0))-2,1)),\"\"),\"\")","v":""},{"$f":"IF(印刷件数>1,IF(入力_印刷!$L$2=3,IF(LEN(VLOOKUP(印刷開始番号+1,入力データ,16,0))-1<=0,\"\",MID(VLOOKUP(印刷開始番号+1,入力データ,16,0),LEN(VLOOKUP(印刷開始番号+1,入力データ,16,0))-1,1)),\"\"),\"\")","v":""},{"$f":"IF(印刷件数>1,IF(入力_印刷!$L$2=3,IF(LEN(VLOOKUP(印刷開始番号+1,入力データ,16,0))<=0,\"\",MID(VLOOKUP(印刷開始番号+1,入力データ,16,0),LEN(VLOOKUP(印刷開始番号+1,入力データ,16,0)),1)),\"\"),\"\")","v":""}]
[]
[null,null,null,"加入者\n住　所",null,null,"（フリガナ）"]
[null,null,null,null,null,null,null,null,null,null,null,null,null,null,null,null,null,null,null,null,null,"都","道"]
[null,null,null,null,null,null,null,null,null,null,null,null,null,null,null,null,null,null,null,null,null,"府","県"]
[]
[null,null,null,"（フリガナ）",null,{"$f":"IF(印刷件数>2,VLOOKUP(印刷開始番号+2,入力データ,4,0),\"\")","v":"スズキ"},null,null,null,null,{"$f":"IF(印刷件数>2,VLOOKUP(印刷開始番号+2,入力データ,5,0),\"\")","v":"イチロウ"},null,null,null,{"$f":"IF(印刷件数<3,\"\",IF(LEFT(VLOOKUP(印刷開始番号+2,入力データ,入力_印刷!$F$4,0),2)=\"19\",\"19\",\"20\"))","v":"19"},null,null,"年",null,"月",null,"日",{"$f":"IF(印刷件数<3,\"\",IF(VLOOKUP(印刷開始番号+2,入力データ,入力_印刷!$H$4,0)=5,\"男\",IF(VLOOKUP(印刷開始番号+2,入力データ,入力_印刷!$H$4,0)=6,\"女\",\"\")))","v":"男"},null,20,null,null,"年",null,"月",null,"日","19\n・\n20",null,null,"年",null,"月",null,"日"]
[null,null,null,"（氏）",{"$f":"IF(印刷件数>2,VLOOKUP(印刷開始番号+2,入力データ,2,0),\"\")","v":"鈴木"},null,null,null,null,"（名）",{"$f":"IF(印刷件数>2,VLOOKUP(印刷開始番号+2,入力データ,3,0),\"\")","v":"一郎"},null,null,null,null,null,{"$f":"IF(印刷件数<3,\"\",TEXT(VLOOKUP(印刷開始番号+2,入力データ,入力_印刷!$G$4,0),\"yy\"))","v":"99"},null,{"$f":"IF(印刷件数<3,\"\",TEXT(VLOOKUP(印刷開始番号+2,入力データ,入力_印刷!$G$4,0),\"mm\"))","v":"10"},null,{"$f":"IF(印刷件数<3,\"\",TEXT(VLOOKUP(印刷開始番号+2,入力データ,入力_印刷!$G$4,0),\"dd\"))","v":"09"},null,null,null,null,null,{"$f":"IF(印刷件数<3,\"\",TEXT(VLOOKUP(印刷開始番号+2,入力データ,入力_印刷!$I$4,0),\"yy\"))","v":"20"},null,{"$f":"IF(印刷件数<3,\"\",TEXT(VLOOKUP(印刷開始番号+2,入力データ,入力_印刷!$I$4,0),\"mm\"))","v":"04"},null,{"$f":"IF(印刷件数<3,\"\",TEXT(VLOOKUP(印刷開始番号+2,入力データ,入力_印刷!$I$4,0),\"dd\"))","v":"01"}]
[]
[null,null,null,null,null,null,null,null,null,null,null,null,null,null,"ＣＤ",null,{"$f":"IF(印刷件数<3,\"\",IF(VLOOKUP(印刷開始番号+2,入力データ,入力_印刷!$N$4,0)=0,\"\",IF(VLOOKUP(印刷開始番号+2,入力データ,入力_印刷!$L$4,0)=2,\"転入\",\"再加入\")))","v":"転入"},null,"職","種",null,null,null,null,{"$f":"IF(印刷件数<3,\"\",DBCS(TEXT(VLOOKUP(印刷開始番号+2,入力データ,入力_印刷!$K$4,0),\"0000000000\")))","v":"３４５６７８９０１２"}]
[null,null,null,1,null,null,null,null,null,null,null,"（円）","19\n・\n20",null,"年",null,"月",null,"日","有：「1」\n\n無：未記入",null,null,"有：「1」\n\n無：「0」",null,null,{"$f":"IF(印刷件数<3,\"\",IF(入力_印刷!$L$2=3,2,\"\"))","v":""},null,null,null,null,null,null,null,"（円）","19\n・\n20",null,"年",null,"月",null,"日","有：「1」\n\n無：未記入",null,null,"有：「1」\n\n無：「0」",null,null,{"$f":"IF(印刷件数<3,\"\",IF(入力_印刷!$L$2=3,3,\"\"))","v":""},null,null,null,null,null,null,null,"（円）","19\n・\n20",null,"年",null,"月",null,"日","有：「1」\n\n無：未記入",null,null,"有：「1」\n\n無：「0」"]
[null,null,null,null,null,null,null,null,{"$f":"IF(印刷件数<3,\"\",事業所情報!$C$4/1000)","v":5},0,0,0,null,null,null,null,null,null,null,null,null,null,null,null,null,null,null,{"$f":"IF(印刷件数>2,IF(入力_印刷!$L$2=3,IF(LEN(VLOOKUP(印刷開始番号+2,入力データ,15,0))-6<=0,\"\",MID(VLOOKUP(印刷開始番号+2,入力データ,15,0),LEN(VLOOKUP(印刷開始番号+2,入力データ,15,0))-6,1)),\"\"),\"\")","v":""},{"$f":"IF(印刷件数>2,IF(入力_印刷!$L$2=3,IF(LEN(VLOOKUP(印刷開始番号+2,入力データ,15,0))-5<=0,\"\",MID(VLOOKUP(印刷開始番号+2,入力データ,15,0),LEN(VLOOKUP(印刷開始番号+2,入力データ,15,0))-5,1)),\"\"),\"\")","v":""},{"$f":"IF(印刷件数>2,IF(入力_印刷!$L$2=3,IF(LEN(VLOOKUP(印刷開始番号+2,入力データ,15,0))-4<=0,\"\",MID(VLOOKUP(印刷開始番号+2,入力データ,15,0),LEN(VLOOKUP(印刷開始番号+2,入力データ,15,0))-4,1)),\"\"),\"\")","v":""},{"$f":"IF(印刷件数>2,IF(入力_印刷!$L$2=3,IF(LEN(VLOOKUP(印刷開始番号+2,入力データ,15,0))-3<=0,\"\",MID(VLOOKUP(印刷開始番号+2,入力データ,15,0),LEN(VLOOKUP(印刷開始番号+2,入力データ,15,0))-3,1)),\"\"),\"\")","v":""},{"$f":"IF(印刷件数>2,IF(入力_印刷!$L$2=3,IF(LEN(VLOOKUP(印刷開始番号+2,入力データ,15,0))-2<=0,\"\",MID(VLOOKUP(印刷開始番号+2,入力データ,15,0),LEN(VLOOKUP(印刷開始番号+2,入力データ,15,0))-2,1)),\"\"),\"\")","v":""},{"$f":"IF(印刷件数>2,IF(入力_印刷!$L$2=3,IF(LEN(VLOOKUP(印刷開始番号+2,入力データ,15,0))-1<=0,\"\",MID(VLOOKUP(印刷開始番号+2,入力データ,15,0),LEN(VLOOKUP(印刷開始番号+2,入力データ,15,0))-1,1)),\"\"),\"\")","v":""},{"$f":"IF(印刷件数>2,IF(入力_印刷!$L$2=3,IF(LEN(VLOOKUP(印刷開始番号+2,入力データ,15,0))<=0,\"\",MID(VLOOKUP(印刷開始番号+2,入力データ,15,0),LEN(VLOOKUP(印刷開始番号+2,入力データ,15,0)),1)),\"\"),\"\")","v":""},null,null,null,null,null,null,null,null,null,null,null,null,null,null,null,{"$f":"IF(印刷件数>2,IF(入力_印刷!$L$2=3,IF(LEN(VLOOKUP(印刷開始番号+2,入力データ,16,0))-6<=0,\"\",MID(VLOOKUP(印刷開始番号+2,入力データ,16,0),LEN(VLOOKUP(印刷開始番号+2,入力データ,16,0))-6,1)),\"\"),\"\")","v":""},{"$f":"IF(印刷件数>2,IF(入力_印刷!$L$2=3,IF(LEN(VLOOKUP(印刷開始番号+2,入力データ,16,0))-5<=0,\"\",MID(VLOOKUP(印刷開始番号+2,入力データ,16,0),LEN(VLOOKUP(印刷開始番号+2,入力データ,16,0))-5,1)),\"\"),\"\")","v":""},{"$f":"IF(印刷件数>2,IF(入力_印刷!$L$2=3,IF(LEN(VLOOKUP(印刷開始番号+2,入力データ,16,0))-4<=0,\"\",MID(VLOOKUP(印刷開始番号+2,入力データ,16,0),LEN(VLOOKUP(印刷開始番号+2,入力データ,16,0))-4,1)),\"\"),\"\")","v":""},{"$f":"IF(印刷件数>2,IF(入力_印刷!$L$2=3,IF(LEN(VLOOKUP(印刷開始番号+2,入力データ,16,0))-3<=0,\"\",MID(VLOOKUP(印刷開始番号+2,入力データ,16,0),LEN(VLOOKUP(印刷開始番号+2,入力データ,16,0))-3,1)),\"\"),\"\")","v":""},{"$f":"IF(印刷件数>2,IF(入力_印刷!$L$2=3,IF(LEN(VLOOKUP(印刷開始番号+2,入力データ,16,0))-2<=0,\"\",MID(VLOOKUP(印刷開始番号+2,入力データ,16,0),LEN(VLOOKUP(印刷開始番号+2,入力データ,16,0))-2,1)),\"\"),\"\")","v":""},{"$f":"IF(印刷件数>2,IF(入力_印刷!$L$2=3,IF(LEN(VLOOKUP(印刷開始番号+2,入力データ,16,0))-1<=0,\"\",MID(VLOOKUP(印刷開始番号+2,入力データ,16,0),LEN(VLOOKUP(印刷開始番号+2,入力データ,16,0))-1,1)),\"\"),\"\")","v":""},{"$f":"IF(印刷件数>2,IF(入力_印刷!$L$2=3,IF(LEN(VLOOKUP(印刷開始番号+2,入力データ,16,0))<=0,\"\",MID(VLOOKUP(印刷開始番号+2,入力データ,16,0),LEN(VLOOKUP(印刷開始番号+2,入力データ,16,0)),1)),\"\"),\"\")","v":""}]
[]
[null,null,null,"加入者\n住　所",null,null,"（フリガナ）"]
[null,null,null,null,null,null,null,null,null,null,null,null,null,null,null,null,null,null,null,null,null,"都","道"]
[null,null,null,null,null,null,null,null,null,null,null,null,null,null,null,null,null,null,null,null,null,"府","県"]
[]
[null,null,null,"（フリガナ）",null,{"$f":"IF(印刷件数>3,VLOOKUP(印刷開始番号+3,入力データ,4,0),\"\")","v":"サトウ"},null,null,null,null,{"$f":"IF(印刷件数>3,VLOOKUP(印刷開始番号+3,入力データ,5,0),\"\")","v":"ユリコ"},null,null,null,{"$f":"IF(印刷件数<4,\"\",IF(LEFT(VLOOKUP(印刷開始番号+3,入力データ,入力_印刷!$F$4,0),2)=\"19\",\"19\",\"20\"))","v":"20"},null,null,"年",null,"月",null,"日",{"$f":"IF(印刷件数<4,\"\",IF(VLOOKUP(印刷開始番号+3,入力データ,入力_印刷!$H$4,0)=5,\"男\",IF(VLOOKUP(印刷開始番号+3,入力データ,入力_印刷!$H$4,0)=6,\"女\",\"\")))","v":"女"},null,20,null,null,"年",null,"月",null,"日","19\n・\n20",null,null,"年",null,"月",null,"日"]
[null,null,null,"（氏）",{"$f":"IF(印刷件数>3,VLOOKUP(印刷開始番号+3,入力データ,2,0),\"\")","v":"佐藤"},null,null,null,null,"（名）",{"$f":"IF(印刷件数>3,VLOOKUP(印刷開始番号+3,入力データ,3,0),\"\")","v":"ゆり子"},null,null,null,null,null,{"$f":"IF(印刷件数<4,\"\",TEXT(VLOOKUP(印刷開始番号+3,入力データ,入力_印刷!$G$4,0),\"yy\"))","v":"00"},null,{"$f":"IF(印刷件数<4,\"\",TEXT(VLOOKUP(印刷開始番号+3,入力データ,入力_印刷!$G$4,0),\"mm\"))","v":"01"},null,{"$f":"IF(印刷件数<4,\"\",TEXT(VLOOKUP(印刷開始番号+3,入力データ,入力_印刷!$G$4,0),\"dd\"))","v":"01"},null,null,null,null,null,{"$f":"IF(印刷件数<4,\"\",TEXT(VLOOKUP(印刷開始番号+3,入力データ,入力_印刷!$I$4,0),\"yy\"))","v":"20"},null,{"$f":"IF(印刷件数<4,\"\",TEXT(VLOOKUP(印刷開始番号+3,入力データ,入力_印刷!$I$4,0),\"mm\"))","v":"04"},null,{"$f":"IF(印刷件数<4,\"\",TEXT(VLOOKUP(印刷開始番号+3,入力データ,入力_印刷!$I$4,0),\"dd\"))","v":"01"}]
[]
[null,null,null,null,null,null,null,null,null,null,null,null,null,null,"ＣＤ",null,{"$f":"IF(印刷件数<4,\"\",IF(VLOOKUP(印刷開始番号+3,入力データ,入力_印刷!$N$4,0)=0,\"\",IF(VLOOKUP(印刷開始番号+3,入力データ,入力_印刷!$L$4,0)=2,\"転入\",\"再加入\")))","v":""},null,"職","種",null,null,null,null,{"$f":"IF(印刷件数<4,\"\",DBCS(TEXT(VLOOKUP(印刷開始番号+3,入力データ,入力_印刷!$K$4,0),\"0000000000\")))","v":"０６５４３２１９８７"}]
[null,null,null,1,null,null,null,null,null,null,null,"（円）","19\n・\n20",null,"年",null,"月",null,"日","有：「1」\n\n無：未記入",null,null,"有：「1」\n\n無：「0」",null,null,{"$f":"IF(印刷件数<4,\"\",IF(入力_印刷!$L$2=3,2,\"\"))","v":""},null,null,null,null,null,null,null,"（円）","19\n・\n20",null,"年",null,"月",null,"日","有：「1」\n\n無：未記入",null,null,"有：「1」\n\n無：「0」",null,null,{"$f":"IF(印刷件数<4,\"\",IF(入力_印刷!$L$2=3,3,\"\"))","v":""},null,null,null,null,null,null,null,"（円）","19\n・\n20",null,"年",null,"月",null,"日","有：「1」\n\n無：未記入",null,null,"有：「1」\n\n無：「0」"]
[null,null,null,null,null,null,null,null,{"$f":"IF(印刷件数<4,\"\",事業所情報!$C$4/1000)","v":5},0,0,0,null,null,null,null,null,null,null,null,null,null,null,null,null,null,null,{"$f":"IF(印刷件数>3,IF(入力_印刷!$L$2=3,IF(LEN(VLOOKUP(印刷開始番号+3,入力データ,15,0))-6<=0,\"\",MID(VLOOKUP(印刷開始番号+3,入力データ,15,0),LEN(VLOOKUP(印刷開始番号+3,入力データ,15,0))-6,1)),\"\"),\"\")","v":""},{"$f":"IF(印刷件数>3,IF(入力_印刷!$L$2=3,IF(LEN(VLOOKUP(印刷開始番号+3,入力データ,15,0))-5<=0,\"\",MID(VLOOKUP(印刷開始番号+3,入力データ,15,0),LEN(VLOOKUP(印刷開始番号+3,入力データ,15,0))-5,1)),\"\"),\"\")","v":""},{"$f":"IF(印刷件数>3,IF(入力_印刷!$L$2=3,IF(LEN(VLOOKUP(印刷開始番号+3,入力データ,15,0))-4<=0,\"\",MID(VLOOKUP(印刷開始番号+3,入力データ,15,0),LEN(VLOOKUP(印刷開始番号+3,入力データ,15,0))-4,1)),\"\"),\"\")","v":""},{"$f":"IF(印刷件数>3,IF(入力_印刷!$L$2=3,IF(LEN(VLOOKUP(印刷開始番号+3,入力データ,15,0))-3<=0,\"\",MID(VLOOKUP(印刷開始番号+3,入力データ,15,0),LEN(VLOOKUP(印刷開始番号+3,入力データ,15,0))-3,1)),\"\"),\"\")","v":""},{"$f":"IF(印刷件数>3,IF(入力_印刷!$L$2=3,IF(LEN(VLOOKUP(印刷開始番号+3,入力データ,15,0))-2<=0,\"\",MID(VLOOKUP(印刷開始番号+3,入力データ,15,0),LEN(VLOOKUP(印刷開始番号+3,入力データ,15,0))-2,1)),\"\"),\"\")","v":""},{"$f":"IF(印刷件数>3,IF(入力_印刷!$L$2=3,IF(LEN(VLOOKUP(印刷開始番号+3,入力データ,15,0))-1<=0,\"\",MID(VLOOKUP(印刷開始番号+3,入力データ,15,0),LEN(VLOOKUP(印刷開始番号+3,入力データ,15,0))-1,1)),\"\"),\"\")","v":""},{"$f":"IF(印刷件数>2,IF(入力_印刷!$L$2=3,IF(LEN(VLOOKUP(印刷開始番号+3,入力データ,15,0))<=0,\"\",MID(VLOOKUP(印刷開始番号+3,入力データ,15,0),LEN(VLOOKUP(印刷開始番号+3,入力データ,15,0)),1)),\"\"),\"\")","v":""},null,null,null,null,null,null,null,null,null,null,null,null,null,null,null,{"$f":"IF(印刷件数>3,IF(入力_印刷!$L$2=3,IF(LEN(VLOOKUP(印刷開始番号+3,入力データ,16,0))-6<=0,\"\",MID(VLOOKUP(印刷開始番号+3,入力データ,16,0),LEN(VLOOKUP(印刷開始番号+3,入力データ,16,0))-6,1)),\"\"),\"\")","v":""},{"$f":"IF(印刷件数>3,IF(入力_印刷!$L$2=3,IF(LEN(VLOOKUP(印刷開始番号+3,入力データ,16,0))-5<=0,\"\",MID(VLOOKUP(印刷開始番号+3,入力データ,16,0),LEN(VLOOKUP(印刷開始番号+3,入力データ,16,0))-5,1)),\"\"),\"\")","v":""},{"$f":"IF(印刷件数>3,IF(入力_印刷!$L$2=3,IF(LEN(VLOOKUP(印刷開始番号+3,入力データ,16,0))-4<=0,\"\",MID(VLOOKUP(印刷開始番号+3,入力データ,16,0),LEN(VLOOKUP(印刷開始番号+3,入力データ,16,0))-4,1)),\"\"),\"\")","v":""},{"$f":"IF(印刷件数>3,IF(入力_印刷!$L$2=3,IF(LEN(VLOOKUP(印刷開始番号+3,入力データ,16,0))-3<=0,\"\",MID(VLOOKUP(印刷開始番号+3,入力データ,16,0),LEN(VLOOKUP(印刷開始番号+3,入力データ,16,0))-3,1)),\"\"),\"\")","v":""},{"$f":"IF(印刷件数>3,IF(入力_印刷!$L$2=3,IF(LEN(VLOOKUP(印刷開始番号+3,入力データ,16,0))-2<=0,\"\",MID(VLOOKUP(印刷開始番号+3,入力データ,16,0),LEN(VLOOKUP(印刷開始番号+3,入力データ,16,0))-2,1)),\"\"),\"\")","v":""},{"$f":"IF(印刷件数>3,IF(入力_印刷!$L$2=3,IF(LEN(VLOOKUP(印刷開始番号+3,入力データ,16,0))-1<=0,\"\",MID(VLOOKUP(印刷開始番号+3,入力データ,16,0),LEN(VLOOKUP(印刷開始番号+3,入力データ,16,0))-1,1)),\"\"),\"\")","v":""},{"$f":"IF(印刷件数>3,IF(入力_印刷!$L$2=3,IF(LEN(VLOOKUP(印刷開始番号+3,入力データ,16,0))<=0,\"\",MID(VLOOKUP(印刷開始番号+3,入力データ,16,0),LEN(VLOOKUP(印刷開始番号+3,入力データ,16,0)),1)),\"\"),\"\")","v":""}]
[]
[null,null,null,"加入者\n住　所",null,null,"（フリガナ）"]
[null,null,null,null,null,null,null,null,null,null,null,null,null,null,null,null,null,null,null,null,null,"都","道"]
[null,null,null,null,null,null,null,null,null,null,null,null,null,null,null,null,null,null,null,null,null,"府","県"]
[]
[null,null,"事業所所在地",null,null,null,null,{"$f":"+事業所情報!C5","v":"123-4567"},null,null,null,null,{"$f":"\"　\"&事業所情報!C6","v":"　山形県○○市○○３丁目２０番５号"},null,null,null,null,null,null,null,null,null,null,null,null,null,null,null,null,null,null,null,null,null,null,null,null,null,null,null,null,{"$f":"+入力_印刷!$G$1","v":"2020-04-01"},null,null,null,null,null,null,null,null,null,null,"提出"]
[null,null,"事業所名称",null,null,null,null,{"$f":"\"　\"&事業所情報!C3","v":"　ABC株式会社"}]
[null,null,"事業主氏名",null,null,null,null,{"$f":"\"　\"&事業所情報!C7&\"　　\"&事業所情報!C8","v":"　代表取締役社長　　山田　太郎"}]
[null,null,"電話",null,null,null,null,{"$f":"\"　\"&事業所情報!C9","v":"　02-3232-1234"}]

{"sheet":"②","index":3,"n_rows":57,"n_cols":67,"rows_kept":57,"cut":false,"hidden":false,"merged":[[0,1,0,5],[0,7,1,21],[0,59,1,65],[0,66,1,67],[1,1,1,5],[3,4,3,6],[3,8,3,12],[3,14,3,20],[4,20,5,20],[4,4,5,4],[4,5,5,5],[4,6,5,6],[4,17,5,17],[4,18,5,18],[4,19,5,19],[4,8,5,8],[4,9,5,9],[4,10,5,10],[4,11,5,11],[4,12,5,12],[6,3,6,13],[6,14,6,21],[6,22,7,23],[6,24,6,31],[6,32,6,39],[7,3,7,13],[7,14,7,21],[7,24,7,31],[7,32,7,39],[8,24,8,33],[8,34,8,68],[9,3,10,3],[9,4,10,4],[9,5,10,11],[9,12,9,18],[9,19,9,21],[9,22,10,24],[9,25,10,25],[9,26,10,26],[8,3,8,13],[8,14,8,15],[8,16,8,17],[8,18,8,19],[8,20,8,21],[8,22,8,23],[9,49,10,55],[9,56,9,62],[9,63,9,65],[9,66,10,68],[10,12,10,18],[10,19,10,21],[10,34,10,40],[10,41,10,43],[10,56,10,62],[10,63,10,65],[9,27,10,33],[9,34,9,40],[9,41,9,43],[9,44,10,46],[9,47,10,47],[9,48,10,48],[12,32,14,33],[13,4,14,7],[13,10,14,13],[13,16,14,17],[13,18,14,19],[13,20,14,21],[13,26,14,27],[13,28,14,29],[13,30,14,31],[12,3,12,4],[12,5,12,7],[12,10,12,13],[12,14,14,15],[12,22,14,23],[12,24,14,25],[15,14,15,15],[15,16,15,17],[15,24,15,33],[16,3,18,3],[16,12,18,12],[16,19,18,20],[16,21,18,21],[16,22,18,23],[16,24,18,24],[16,25,18,25],[20,12,21,12],[20,13,21,13],[16,56,18,56],[16,63,18,64],[16,65,18,65],[16,66,18,67],[16,68,18,68],[17,5,18,5],[17,6,18,6],[17,7,18,7],[17,8,18,8],[17,9,18,9],[16,34,18,34],[16,41,18,42],[16,43,18,43],[16,44,18,45],[16,46,18,46],[16,47,18,47],[17,55,18,55],[17,49,18,49],[17,50,18,50],[17,51,18,51],[17,52,18,52],[17,53,18,53],[17,54,18,54],[24,28,25,29],[24,30,25,31],[26,14,26,15],[26,16,26,17],[26,24,26,33],[19,3,21,5],[19,6,19,9],[20,6,21,6],[20,7,21,7],[20,8,21,8],[20,10,21,10],[17,31,18,31],[17,32,18,32],[17,33,18,33],[17,10,18,10],[17,11,18,11],[17,27,18,27],[17,28,18,28],[17,29,18,29],[17,30,18,30],[20,11,21,11],[23,14,25,15],[23,22,25,23],[23,24,25,25],[23,32,25,33],[24,4,25,7],[24,10,25,13],[24,16,25,17],[24,18,25,19],[24,20,25,21],[24,26,25,27],[23,3,23,4],[23,5,23,7],[23,10,23,13],[27,41,29,42],[27,43,29,43],[27,44,29,45],[28,29,29,29],[28,30,29,30],[28,31,29,31],[28,32,29,32],[28,33,29,33],[27,3,29,3],[27,12,29,12],[27,19,29,20],[27,21,29,21],[27,22,29,23],[27,24,29,24],[27,25,29,25],[28,49,29,49],[28,50,29,50],[28,51,29,51],[28,52,29,52],[28,53,29,53],[27,68,29,68],[28,5,29,5],[28,6,29,6],[28,7,29,7],[28,8,29,8],[28,9,29,9],[28,10,29,10],[28,11,29,11],[28,27,29,27],[28,28,29,28],[27,46,29,46],[27,47,29,47],[27,56,29,56],[27,63,29,64],[27,65,29,65],[27,66,29,67],[28,54,29,54],[28,55,29,55],[27,34,29,34],[31,11,32,11],[31,12,32,12],[31,13,32,13],[34,3,34,4],[34,5,34,7],[34,10,34,13],[30,3,32,5],[30,6,30,9],[31,6,32,6],[31,7,32,7],[31,8,32,8],[31,10,32,10],[37,14,37,15],[37,16,37,17],[37,24,37,33],[38,3,40,3],[38,12,40,12],[38,19,40,20],[38,21,40,21],[38,22,40,23],[34,14,36,15],[34,22,36,23],[34,24,36,25],[34,32,36,33],[35,4,36,7],[35,10,36,13],[35,16,36,17],[35,18,36,19],[35,20,36,21],[35,26,36,27],[38,24,40,24],[38,25,40,25],[38,41,40,42],[38,43,40,43],[38,44,40,45],[39,29,40,29],[39,30,40,30],[39,31,40,31],[39,32,40,32],[39,33,40,33],[35,28,36,29],[35,30,36,31],[39,49,40,49],[39,50,40,50],[39,51,40,51],[39,52,40,52],[39,53,40,53],[38,68,40,68],[39,5,40,5],[39,6,40,6],[39,7,40,7],[39,8,40,8],[39,9,40,9],[39,10,40,10],[39,11,40,11],[39,27,40,27],[39,28,40,28],[38,46,40,46],[38,47,40,47],[38,56,40,56],[38,63,40,64],[38,65,40,65],[38,66,40,67],[39,54,40,54],[39,55,40,55],[38,34,40,34],[42,11,43,11],[42,12,43,12],[42,13,43,13],[45,3,45,4],[45,5,45,7],[45,10,45,13],[41,3,43,5],[41,6,41,9],[42,6,43,6],[42,7,43,7],[42,8,43,8],[42,10,43,10],[48,14,48,15],[48,16,48,17],[48,24,48,33],[49,3,51,3],[49,12,51,12],[49,19,51,20],[49,21,51,21],[49,22,51,23],[45,14,47,15],[45,22,47,23],[45,24,47,25],[45,32,47,33],[46,4,47,7],[46,10,47,13],[46,16,47,17],[46,18,47,19],[46,20,47,21],[46,26,47,27],[49,24,51,24],[49,25,51,25],[49,41,51,42],[49,43,51,43],[49,44,51,45],[50,29,51,29],[50,30,51,30],[50,31,51,31],[50,32,51,32],[50,33,51,33],[46,28,47,29],[46,30,47,31],[50,49,51,49],[50,50,51,50],[50,51,51,51],[50,52,51,52],[50,53,51,53],[49,68,51,68],[50,5,51,5],[50,6,51,6],[50,7,51,7],[50,8,51,8],[50,9,51,9],[50,10,51,10],[50,11,51,11],[50,27,51,27],[50,28,51,28],[49,46,51,46],[49,47,51,47],[49,56,51,56],[49,63,51,64],[49,65,51,65],[49,66,51,67],[50,54,51,54],[50,55,51,55],[49,34,51,34],[53,11,54,11],[53,12,54,12],[53,13,54,13],[56,41,56,50],[52,3,54,5],[52,6,52,9],[53,6,54,6],[53,7,54,7],[53,8,54,8],[53,10,54,10]]}
[null,"企　業　年　金",null,null,null,null,null,"加入者資格取得通知書",null,null,null,null,null,null,null,null,null,null,null,null,null,null,null,null,null,null,null,null,null,null,null,null,null,null,null,null,null,null,null,null,null,null,null,null,null,null,null,null,null,null,null,null,null,null,null,null,null,null,null,"みずほ信託銀行用",null,null,null,null,null,null,2]
[null,"基　　　　　　金"]
[]
[null,null,null,null,"届書番号",null,null,null,"契約番号",null,null,null,null,null,"事業所番号",null,null,null,null,null,null,null,null,null,null,null,null,null,null,null,null,null,null,null,null,null,null,null,null,null,null,null,null,null,null,null,null,null,null,null,null,null,null,null,null,null,null,null,null,null,"事","→","基","→","信"]
[null,null,null,null,1,7,1,null,8,0,4,2,8,null,null,null,null,{"$f":"+①!R6","v":"9"},{"$f":"+①!S6","v":"8"},{"$f":"+①!T6","v":"7"},{"$f":"+①!U6","v":"6"}]
[]
[null,null,null,"フ　　　リ　　　ガ　　　ナ",null,null,null,null,null,null,null,null,null,null,"生　年　月　日",null,null,null,null,null,null,null,"性別",null,"資格取得年月日",null,null,null,null,null,null,null,"入社年月日"]
[null,null,null,"加　入　者　の　氏　名",null,null,null,null,null,null,null,null,null,null,"（西暦）",null,null,null,null,null,null,null,null,null,"（西暦）",null,null,null,null,null,null,null,"（西暦）"]
[null,null,null,"加 　入 　者　 番 　号",null,null,null,null,null,null,null,null,null,null,"ＣＤ",null,"転入・再加入",null,"職種",null,"コ-ド1",null,"コ－ド2",null,"基礎年金番号",null,null,null,null,null,null,null,null,null,"備　　　　　　　　　　　　　　　　　　　　　考"]
[null,null,null,"基加区分","給付区分","標準給与月額",null,null,null,null,null,null,"みなし資格取得年月日",null,null,null,null,null,null,"加入者",null,null,"通算有無",null,null,"基加区分","給付区分","標準給与月額",null,null,null,null,null,null,"みなし資格取得年月日",null,null,null,null,null,null,"加入者",null,null,"通算有無",null,null,"基加区分","給付区分","標準給与月額",null,null,null,null,null,null,"みなし資格取得年月日",null,null,null,null,null,null,"加入者",null,null,"通算有無"]
[null,null,null,null,null,null,null,null,null,null,null,null,"（西暦）",null,null,null,null,null,null,"拠出有無区分",null,null,null,null,null,null,null,null,null,null,null,null,null,null,"（西暦）",null,null,null,null,null,null,"拠出有無区分",null,null,null,null,null,null,null,null,null,null,null,null,null,null,"（西暦）",null,null,null,null,null,null,"拠出有無区分"]
[]
[null,null,null,"（フリガナ）",null,{"$f":"①!F13","v":"ミズホ"},null,null,null,null,{"$f":"①!K13","v":"タロウ"},null,null,null,{"$f":"IF(①!O13=\"19\",\"Y\",IF(①!O13=\"20\",\"Z\",\"\"))","v":"Z"},null,null,"年",null,"月",null,"日",{"$f":"IF(①!W13=\"男\",5,IF(①!W13=\"女\",6,\"\"))","v":5},null,"ｚ",null,null,"年",null,"月",null,"日","Ｙ・Ｚ",null,null,"年",null,"月",null,"日"]
[null,null,null,"（氏）",{"$f":"①!E14","v":"瑞穂"},null,null,null,null,"（名）",{"$f":"①!K14","v":"太郎"},null,null,null,null,null,{"$f":"①!Q14","v":"00"},null,{"$f":"①!S14","v":"01"},null,{"$f":"①!U14","v":"01"},null,null,null,null,null,{"$f":"①!AA14","v":"20"},null,{"$f":"①!AC14","v":"04"},null,{"$f":"①!AE14","v":"01"}]
[]
[null,null,null,null,null,null,null,null,null,null,null,null,null,null,"ＣＤ",null,{"$f":"IF(①!Q16=\"転入\",2,IF(①!Q16=\"再加入\",3,①!Q16))","v":""},null,"職","種",null,null,null,null,{"$f":"①!Y16","v":"１２３４５６７８９０"}]
[null,null,null,1,null,null,null,null,null,null,null,"（円）","Ｙ\n・\nＺ",null,"年",null,"月",null,"日","有：「1」\n\n無：未記入",null,null,"有：「1」\n\n無：「0」",null,null,{"$f":"①!Z17","v":""},null,null,null,null,null,null,null,"（円）","Ｙ\n・\nＺ",null,"年",null,"月",null,"日","有：「1」\n\n無：未記入",null,null,"有：「1」\n\n無：「0」",null,null,{"$f":"①!AV17","v":""},null,null,null,null,null,null,null,"（円）","Ｙ\n・\nＺ",null,"年",null,"月",null,"日","有：「1」\n\n無：未記入",null,null,"有：「1」\n\n無：「0」"]
[null,null,null,null,null,null,null,null,{"$f":"①!I18","v":5},0,0,0,null,null,null,null,null,null,null,null,null,null,null,null,null,null,null,{"$f":"①!AB18","v":""},{"$f":"①!AC18","v":""},{"$f":"①!AD18","v":""},{"$f":"①!AE18","v":""},{"$f":"①!AF18","v":""},{"$f":"①!AG18","v":""},{"$f":"①!AH18","v":""},null,null,null,null,null,null,null,null,null,null,null,null,null,null,null,{"$f":"①!AX18","v":""},{"$f":"①!AY18","v":""},{"$f":"①!AZ18","v":""},{"$f":"①!BA18","v":""},{"$f":"①!BB18","v":""},{"$f":"①!BC18","v":""},{"$f":"①!BD18","v":""}]
[]
[null,null,null,"加入者\n住　所",null,null,"（フリガナ）"]
[null,null,null,null,null,null,null,null,null,null,null,null,null,null,null,null,null,null,null,null,null,"都","道"]
[null,null,null,null,null,null,null,null,null,null,null,null,null,null,null,null,null,null,null,null,null,"府","県"]
[]
[null,null,null,"（フリガナ）",null,{"$f":"①!F24","v":"ヤマダ"},null,null,null,null,{"$f":"①!K24","v":"ハナコ"},null,null,null,{"$f":"IF(①!O24=\"19\",\"Y\",IF(①!O24=\"20\",\"Z\",\"\"))","v":"Y"},null,null,"年",null,"月",null,"日",{"$f":"IF(①!W24=\"男\",5,IF(①!W24=\"女\",6,\"\"))","v":6},null,"ｚ",null,null,"年",null,"月",null,"日","Ｙ・Ｚ",null,null,"年",null,"月",null,"日"]
[null,null,null,"（氏）",{"$f":"①!E25","v":"山田"},null,null,null,null,"（名）",{"$f":"①!K25","v":"花子"},null,null,null,null,null,{"$f":"①!Q25","v":"78"},null,{"$f":"①!S25","v":"05"},null,{"$f":"①!U25","v":"19"},null,null,null,null,null,{"$f":"①!AA25","v":"20"},null,{"$f":"①!AC25","v":"04"},null,{"$f":"①!AE25","v":"01"}]
[]
[null,null,null,null,null,null,null,null,null,null,null,null,null,null,"ＣＤ",null,{"$f":"IF(①!Q27=\"転入\",2,IF(①!Q27=\"再加入\",3,①!Q27))","v":3},null,"職","種",null,null,null,null,{"$f":"①!Y27","v":"０９８７６５４３２１"}]
[null,null,null,1,null,null,null,null,null,null,null,"（円）","Ｙ\n・\nＺ",null,"年",null,"月",null,"日","有：「1」\n\n無：未記入",null,null,"有：「1」\n\n無：「0」",null,null,{"$f":"①!Z28","v":""},null,null,null,null,null,null,null,"（円）","Ｙ\n・\nＺ",null,"年",null,"月",null,"日","有：「1」\n\n無：未記入",null,null,"有：「1」\n\n無：「0」",null,null,{"$f":"①!AV28","v":""},null,null,null,null,null,null,null,"（円）","Ｙ\n・\nＺ",null,"年",null,"月",null,"日","有：「1」\n\n無：未記入",null,null,"有：「1」\n\n無：「0」"]
[null,null,null,null,null,null,null,null,{"$f":"①!I29","v":5},0,0,0,null,null,null,null,null,null,null,null,null,null,null,null,null,null,null,{"$f":"①!AB29","v":""},{"$f":"①!AC29","v":""},{"$f":"①!AD29","v":""},{"$f":"①!AE29","v":""},{"$f":"①!AF29","v":""},{"$f":"①!AG29","v":""},{"$f":"①!AH29","v":""},null,null,null,null,null,null,null,null,null,null,null,null,null,null,null,{"$f":"①!AX29","v":""},{"$f":"①!AY29","v":""},{"$f":"①!AZ29","v":""},{"$f":"①!BA29","v":""},{"$f":"①!BB29","v":""},{"$f":"①!BC29","v":""},{"$f":"①!BD29","v":""}]
[]
[null,null,null,"加入者\n住　所",null,null,"（フリガナ）"]
[null,null,null,null,null,null,null,null,null,null,null,null,null,null,null,null,null,null,null,null,null,"都","道"]
[null,null,null,null,null,null,null,null,null,null,null,null,null,null,null,null,null,null,null,null,null,"府","県"]
[]
[null,null,null,"（フリガナ）",null,{"$f":"①!F35","v":"スズキ"},null,null,null,null,{"$f":"①!K35","v":"イチロウ"},null,null,null,{"$f":"IF(①!O35=\"19\",\"Y\",IF(①!O35=\"20\",\"Z\",\"\"))","v":"Y"},null,null,"年",null,"月",null,"日",{"$f":"IF(①!W35=\"男\",5,IF(①!W35=\"女\",6,\"\"))","v":5},null,"ｚ",null,null,"年",null,"月",null,"日","Ｙ・Ｚ",null,null,"年",null,"月",null,"日"]
[null,null,null,"（氏）",{"$f":"①!E36","v":"鈴木"},null,null,null,null,"（名）",{"$f":"①!K36","v":"一郎"},null,null,null,null,null,{"$f":"①!Q36","v":"99"},null,{"$f":"①!S36","v":"10"},null,{"$f":"①!U36","v":"09"},null,null,null,null,null,{"$f":"①!AA36","v":"20"},null,{"$f":"①!AC36","v":"04"},null,{"$f":"①!AE36","v":"01"}]
[]
[null,null,null,null,null,null,null,null,null,null,null,null,null,null,"ＣＤ",null,{"$f":"IF(①!Q38=\"転入\",2,IF(①!Q38=\"再加入\",3,①!Q38))","v":2},null,"職","種",null,null,null,null,{"$f":"①!Y38","v":"３４５６７８９０１２"}]
[null,null,null,1,null,null,null,null,null,null,null,"（円）","Ｙ\n・\nＺ",null,"年",null,"月",null,"日","有：「1」\n\n無：未記入",null,null,"有：「1」\n\n無：「0」",null,null,{"$f":"①!Z39","v":""},null,null,null,null,null,null,null,"（円）","Ｙ\n・\nＺ",null,"年",null,"月",null,"日","有：「1」\n\n無：未記入",null,null,"有：「1」\n\n無：「0」",null,null,{"$f":"①!AV39","v":""},null,null,null,null,null,null,null,"（円）","Ｙ\n・\nＺ",null,"年",null,"月",null,"日","有：「1」\n\n無：未記入",null,null,"有：「1」\n\n無：「0」"]
[null,null,null,null,null,null,null,null,{"$f":"①!I40","v":5},0,0,0,null,null,null,null,null,null,null,null,null,null,null,null,null,null,null,{"$f":"①!AB40","v":""},{"$f":"①!AC40","v":""},{"$f":"①!AD40","v":""},{"$f":"①!AE40","v":""},{"$f":"①!AF40","v":""},{"$f":"①!AG40","v":""},{"$f":"①!AH40","v":""},null,null,null,null,null,null,null,null,null,null,null,null,null,null,null,{"$f":"①!AX40","v":""},{"$f":"①!AY40","v":""},{"$f":"①!AZ40","v":""},{"$f":"①!BA40","v":""},{"$f":"①!BB40","v":""},{"$f":"①!BC40","v":""},{"$f":"①!BD40","v":""}]
[]
[null,null,null,"加入者\n住　所",null,null,"（フリガナ）"]
[null,null,null,null,null,null,null,null,null,null,null,null,null,null,null,null,null,null,null,null,null,"都","道"]
[null,null,null,null,null,null,null,null,null,null,null,null,null,null,null,null,null,null,null,null,null,"府","県"]
[]
[null,null,null,"（フリガナ）",null,{"$f":"①!F46","v":"サトウ"},null,null,null,null,{"$f":"①!K46","v":"ユリコ"},null,null,null,{"$f":"IF(①!O46=\"19\",\"Y\",IF(①!O46=\"20\",\"Z\",\"\"))","v":"Z"},null,null,"年",null,"月",null,"日",{"$f":"IF(①!W46=\"男\",5,IF(①!W46=\"女\",6,\"\"))","v":6},null,"ｚ",null,null,"年",null,"月",null,"日","Ｙ・Ｚ",null,null,"年",null,"月",null,"日"]
[null,null,null,"（氏）",{"$f":"①!E47","v":"佐藤"},null,null,null,null,"（名）",{"$f":"①!K47","v":"ゆり子"},null,null,null,null,null,{"$f":"①!Q47","v":"00"},null,{"$f":"①!S47","v":"01"},null,{"$f":"①!U47","v":"01"},null,null,null,null,null,{"$f":"①!AA47","v":"20"},null,{"$f":"①!AC47","v":"04"},null,{"$f":"①!AE47","v":"01"}]
[]
[null,null,null,null,null,null,null,null,null,null,null,null,null,null,"ＣＤ",null,{"$f":"IF(①!Q49=\"転入\",2,IF(①!Q49=\"再加入\",3,①!Q49))","v":""},null,"職","種",null,null,null,null,{"$f":"①!Y49","v":"０６５４３２１９８７"}]
[null,null,null,1,null,null,null,null,null,null,null,"（円）","Ｙ\n・\nＺ",null,"年",null,"月",null,"日","有：「1」\n\n無：未記入",null,null,"有：「1」\n\n無：「0」",null,null,{"$f":"①!Z50","v":""},null,null,null,null,null,null,null,"（円）","Ｙ\n・\nＺ",null,"年",null,"月",null,"日","有：「1」\n\n無：未記入",null,null,"有：「1」\n\n無：「0」",null,null,{"$f":"①!AV50","v":""},null,null,null,null,null,null,null,"（円）","Ｙ\n・\nＺ",null,"年",null,"月",null,"日","有：「1」\n\n無：未記入",null,null,"有：「1」\n\n無：「0」"]
[null,null,null,null,null,null,null,null,{"$f":"①!I51","v":5},0,0,0,null,null,null,null,null,null,null,null,null,null,null,null,null,null,null,{"$f":"①!AB51","v":""},{"$f":"①!AC51","v":""},{"$f":"①!AD51","v":""},{"$f":"①!AE51","v":""},{"$f":"①!AF51","v":""},{"$f":"①!AG51","v":""},{"$f":"①!AH51","v":""},null,null,null,null,null,null,null,null,null,null,null,null,null,null,null,{"$f":"①!AX51","v":""},{"$f":"①!AY51","v":""},{"$f":"①!AZ51","v":""},{"$f":"①!BA51","v":""},{"$f":"①!BB51","v":""},{"$f":"①!BC51","v":""},{"$f":"①!BD51","v":""}]
[]
[null,null,null,"加入者\n住　所",null,null,"（フリガナ）"]
[null,null,null,null,null,null,null,null,null,null,null,null,null,null,null,null,null,null,null,null,null,"都","道"]
[null,null,null,null,null,null,null,null,null,null,null,null,null,null,null,null,null,null,null,null,null,"府","県"]
[]
[null,null,null,null,null,null,null,null,null,null,null,null,null,null,null,null,null,null,null,null,null,null,null,null,null,null,null,null,null,null,null,null,null,null,null,null,null,null,null,null,null,{"$f":"①!AP57","v":"2020-04-01"},null,null,null,null,null,null,null,null,null,null,"提出"]

{"sheet":"③","index":4,"n_rows":60,"n_cols":67,"rows_kept":60,"cut":false,"hidden":false,"merged":[[4,12,5,12],[0,1,0,5],[0,7,1,26],[0,59,1,65],[0,66,1,67],[1,1,1,5],[3,8,3,12],[3,14,3,20],[6,3,6,13],[6,14,6,21],[6,22,7,23],[6,24,6,31],[6,32,6,39],[7,3,7,13],[7,14,7,21],[7,24,7,31],[7,32,7,39],[4,17,5,17],[4,18,5,18],[4,19,5,19],[4,20,5,20],[4,8,5,8],[4,9,5,9],[4,10,5,10],[4,11,5,11],[8,24,8,33],[8,34,8,68],[9,3,10,3],[9,4,10,4],[9,5,10,11],[9,12,9,18],[9,19,9,21],[9,22,10,24],[9,25,10,25],[9,26,10,26],[8,3,8,13],[8,14,8,15],[8,16,8,17],[8,18,8,19],[8,20,8,21],[8,22,8,23],[9,49,10,55],[9,56,9,62],[9,63,9,65],[9,66,10,68],[10,12,10,18],[10,19,10,21],[10,34,10,40],[10,41,10,43],[10,56,10,62],[10,63,10,65],[9,27,10,33],[9,34,9,40],[9,41,9,43],[9,44,10,46],[9,47,10,47],[9,48,10,48],[12,32,14,33],[13,4,14,7],[13,10,14,13],[13,16,14,17],[13,18,14,19],[13,20,14,21],[13,26,14,27],[13,28,14,29],[13,30,14,31],[12,3,12,4],[12,5,12,7],[12,10,12,13],[12,14,14,15],[12,22,14,23],[12,24,14,25],[15,14,15,15],[15,16,15,17],[15,24,15,33],[16,3,18,3],[16,12,18,12],[16,19,18,20],[16,21,18,21],[16,22,18,23],[16,24,18,24],[16,25,18,25],[20,12,21,12],[20,13,21,13],[16,56,18,56],[16,63,18,64],[16,65,18,65],[16,66,18,67],[16,68,18,68],[17,5,18,5],[17,6,18,6],[17,7,18,7],[17,8,18,8],[17,9,18,9],[16,34,18,34],[16,41,18,42],[16,43,18,43],[16,44,18,45],[16,46,18,46],[16,47,18,47],[17,55,18,55],[17,49,18,49],[17,50,18,50],[17,51,18,51],[17,52,18,52],[17,53,18,53],[17,54,18,54],[24,28,25,29],[24,30,25,31],[26,14,26,15],[26,16,26,17],[26,24,26,33],[19,3,21,5],[19,6,19,9],[20,6,21,6],[20,7,21,7],[20,8,21,8],[20,10,21,10],[17,31,18,31],[17,32,18,32],[17,33,18,33],[17,10,18,10],[17,11,18,11],[17,27,18,27],[17,28,18,28],[17,29,18,29],[17,30,18,30],[20,11,21,11],[23,14,25,15],[23,22,25,23],[23,24,25,25],[23,32,25,33],[24,4,25,7],[24,10,25,13],[24,16,25,17],[24,18,25,19],[24,20,25,21],[24,26,25,27],[23,3,23,4],[23,5,23,7],[23,10,23,13],[27,41,29,42],[27,43,29,43],[27,44,29,45],[28,29,29,29],[28,30,29,30],[28,31,29,31],[28,32,29,32],[28,33,29,33],[27,3,29,3],[27,12,29,12],[27,19,29,20],[27,21,29,21],[27,22,29,23],[27,24,29,24],[27,25,29,25],[28,49,29,49],[28,50,29,50],[28,51,29,51],[28,52,29,52],[28,53,29,53],[27,68,29,68],[28,5,29,5],[28,6,29,6],[28,7,29,7],[28,8,29,8],[28,9,29,9],[28,10,29,10],[28,11,29,11],[28,27,29,27],[28,28,29,28],[27,46,29,46],[27,47,29,47],[27,56,29,56],[27,63,29,64],[27,65,29,65],[27,66,29,67],[28,54,29,54],[28,55,29,55],[27,34,29,34],[31,11,32,11],[31,12,32,12],[31,13,32,13],[34,3,34,4],[34,5,34,7],[34,10,34,13],[30,3,32,5],[30,6,30,9],[31,6,32,6],[31,7,32,7],[31,8,32,8],[31,10,32,10],[37,14,37,15],[37,16,37,17],[37,24,37,33],[38,3,40,3],[38,12,40,12],[38,19,40,20],[38,21,40,21],[38,22,40,23],[34,14,36,15],[34,22,36,23],[34,24,36,25],[34,32,36,33],[35,4,36,7],[35,10,36,13],[35,16,36,17],[35,18,36,19],[35,20,36,21],[35,26,36,27],[38,24,40,24],[38,25,40,25],[38,41,40,42],[38,43,40,43],[38,44,40,45],[39,29,40,29],[39,30,40,30],[39,31,40,31],[39,32,40,32],[39,33,40,33],[35,28,36,29],[35,30,36,31],[39,49,40,49],[39,50,40,50],[39,51,40,51],[39,52,40,52],[39,53,40,53],[38,68,40,68],[39,5,40,5],[39,6,40,6],[39,7,40,7],[39,8,40,8],[39,9,40,9],[39,10,40,10],[39,11,40,11],[39,27,40,27],[39,28,40,28],[38,46,40,46],[38,47,40,47],[38,56,40,56],[38,63,40,64],[38,65,40,65],[38,66,40,67],[39,54,40,54],[39,55,40,55],[38,34,40,34],[42,11,43,11],[42,12,43,12],[42,13,43,13],[45,3,45,4],[45,5,45,7],[45,10,45,13],[41,3,43,5],[41,6,41,9],[42,6,43,6],[42,7,43,7],[42,8,43,8],[42,10,43,10],[48,14,48,15],[48,16,48,17],[48,24,48,33],[49,3,51,3],[49,12,51,12],[49,19,51,20],[49,21,51,21],[49,22,51,23],[45,14,47,15],[45,22,47,23],[45,24,47,25],[45,32,47,33],[46,4,47,7],[46,10,47,13],[46,16,47,17],[46,18,47,19],[46,20,47,21],[46,26,47,27],[49,24,51,24],[49,25,51,25],[49,41,51,42],[49,43,51,43],[49,44,51,45],[50,29,51,29],[50,30,51,30],[50,31,51,31],[50,32,51,32],[50,33,51,33],[46,28,47,29],[46,30,47,31],[50,49,51,49],[50,50,51,50],[50,51,51,51],[50,52,51,52],[50,53,51,53],[49,68,51,68],[50,5,51,5],[50,6,51,6],[50,7,51,7],[50,8,51,8],[50,9,51,9],[50,10,51,10],[50,11,51,11],[50,27,51,27],[50,28,51,28],[49,46,51,46],[49,47,51,47],[49,56,51,56],[49,63,51,64],[49,65,51,65],[49,66,51,67],[50,54,51,54],[50,55,51,55],[49,34,51,34],[56,41,56,50],[57,2,57,6],[57,7,57,38],[58,2,58,6],[58,7,58,25],[59,2,59,6],[59,7,59,38],[53,11,54,11],[53,12,54,12],[53,13,54,13],[56,2,56,6],[56,7,56,11],[56,12,56,38],[52,3,54,5],[52,6,52,9],[53,6,54,6],[53,7,54,7],[53,8,54,8],[53,10,54,10]]}
[null,"企　業　年　金",null,null,null,null,null,"加入者資格取得および標準給与決定通知書",null,null,null,null,null,null,null,null,null,null,null,null,null,null,null,null,null,null,null,null,null,null,null,null,null,null,null,null,null,null,null,null,null,null,null,null,null,null,null,null,null,null,null,null,null,null,null,null,null,null,null,"事　業　所　用",null,null,null,null,null,null,3]
[null,"基　　　　　　金"]
[]
[null,null,null,null,null,null,null,null,"契約番号",null,null,null,null,null,"事業所番号",null,null,null,null,null,null,null,null,null,null,null,null,null,null,null,null,null,null,null,null,null,null,null,null,null,null,null,null,null,null,null,null,null,null,null,null,null,null,null,null,null,null,null,null,null,"事","→","基","→","事"]
[null,null,null,null,null,null,null,null,8,0,4,2,8,null,null,null,null,{"$f":"+①!R6","v":"9"},{"$f":"+①!S6","v":"8"},{"$f":"+①!T6","v":"7"},{"$f":"+①!U6","v":"6"}]
[]
[null,null,null,"フ　　　リ　　　ガ　　　ナ",null,null,null,null,null,null,null,null,null,null,"生　年　月　日",null,null,null,null,null,null,null,"性別",null,"資格取得年月日",null,null,null,null,null,null,null,"入社年月日"]
[null,null,null,"加　入　者　の　氏　名",null,null,null,null,null,null,null,null,null,null,"（西暦）",null,null,null,null,null,null,null,null,null,"（西暦）",null,null,null,null,null,null,null,"（西暦）"]
[null,null,null,"加 　入 　者　 番 　号",null,null,null,null,null,null,null,null,null,null,"ＣＤ",null,"転入・再加入",null,"職種",null,"コ-ド1",null,"コ－ド2",null,"基礎年金番号",null,null,null,null,null,null,null,null,null,"備　　　　　　　　　　　　　　　　　　　　　考"]
[null,null,null,"開始サイン","給付区分","標準給与月額",null,null,null,null,null,null,"みなし資格取得年月日",null,null,null,null,null,null,"加入者",null,null,"通算有無",null,null,"開始サイン","給付区分","標準給与月額",null,null,null,null,null,null,"みなし資格取得年月日",null,null,null,null,null,null,"加入者",null,null,"通算有無",null,null,"開始サイン","給付区分","標準給与月額",null,null,null,null,null,null,"みなし資格取得年月日",null,null,null,null,null,null,"加入者",null,null,"通算有無"]
[null,null,null,null,null,null,null,null,null,null,null,null,"（西暦）",null,null,null,null,null,null,"拠出有無区分",null,null,null,null,null,null,null,null,null,null,null,null,null,null,"（西暦）",null,null,null,null,null,null,"拠出有無区分",null,null,null,null,null,null,null,null,null,null,null,null,null,null,"（西暦）",null,null,null,null,null,null,"拠出有無区分"]
[]
[null,null,null,"（フリガナ）",null,{"$f":"①!F13","v":"ミズホ"},null,null,null,null,{"$f":"①!K13","v":"タロウ"},null,null,null,{"$f":"①!O13","v":"20"},null,null,"年",null,"月",null,"日",{"$f":"①!W13","v":"男"},null,20,null,null,"年",null,"月",null,"日","19\n・\n20",null,null,"年",null,"月",null,"日"]
[null,null,null,"（氏）",{"$f":"①!E14","v":"瑞穂"},null,null,null,null,"（名）",{"$f":"①!K14","v":"太郎"},null,null,null,null,null,{"$f":"①!Q14","v":"00"},null,{"$f":"①!S14","v":"01"},null,{"$f":"①!U14","v":"01"},null,null,null,null,null,{"$f":"①!AA14","v":"20"},null,{"$f":"①!AC14","v":"04"},null,{"$f":"①!AE14","v":"01"}]
[]
[null,null,null,null,null,null,null,null,null,null,null,null,null,null,"ＣＤ",null,{"$f":"①!Q16","v":""},null,"職","種",null,null,null,null,{"$f":"①!Y16","v":"１２３４５６７８９０"}]
[null,null,null,1,null,null,null,null,null,null,null,"（円）","19\n・\n20",null,"年",null,"月",null,"日","有：「1」\n\n無：未記入",null,null,"有：「1」\n\n無：「0」",null,null,{"$f":"①!Z17","v":""},null,null,null,null,null,null,null,"（円）","19\n・\n20",null,"年",null,"月",null,"日","有：「1」\n\n無：未記入",null,null,"有：「1」\n\n無：「0」",null,null,{"$f":"①!AV17","v":""},null,null,null,null,null,null,null,"（円）","19\n・\n20",null,"年",null,"月",null,"日","有：「1」\n\n無：未記入",null,null,"有：「1」\n\n無：「0」"]
[null,null,null,null,null,null,null,null,{"$f":"①!I18","v":5},0,0,0,null,null,null,null,null,null,null,null,null,null,null,null,null,null,null,{"$f":"①!AB18","v":""},{"$f":"①!AC18","v":""},{"$f":"①!AD18","v":""},{"$f":"①!AE18","v":""},{"$f":"①!AF18","v":""},{"$f":"①!AG18","v":""},{"$f":"①!AH18","v":""},null,null,null,null,null,null,null,null,null,null,null,null,null,null,null,{"$f":"①!AX18","v":""},{"$f":"①!AY18","v":""},{"$f":"①!AZ18","v":""},{"$f":"①!BA18","v":""},{"$f":"①!BB18","v":""},{"$f":"①!BC18","v":""},{"$f":"①!BD18","v":""}]
[]
[null,null,null,"加入者\n住　所",null,null,"（フリガナ）"]
[null,null,null,null,null,null,null,null,null,null,null,null,null,null,null,null,null,null,null,null,null,"都","道"]
[null,null,null,null,null,null,null,null,null,null,null,null,null,null,null,null,null,null,null,null,null,"府","県"]
[]
[null,null,null,"（フリガナ）",null,{"$f":"①!F24","v":"ヤマダ"},null,null,null,null,{"$f":"①!K24","v":"ハナコ"},null,null,null,{"$f":"①!O24","v":"19"},null,null,"年",null,"月",null,"日",{"$f":"①!W24","v":"女"},null,20,null,null,"年",null,"月",null,"日","19\n・\n20",null,null,"年",null,"月",null,"日"]
[null,null,null,"（氏）",{"$f":"①!E25","v":"山田"},null,null,null,null,"（名）",{"$f":"①!K25","v":"花子"},null,null,null,null,null,{"$f":"①!Q25","v":"78"},null,{"$f":"①!S25","v":"05"},null,{"$f":"①!U25","v":"19"},null,null,null,null,null,{"$f":"①!AA25","v":"20"},null,{"$f":"①!AC25","v":"04"},null,{"$f":"①!AE25","v":"01"}]
[]
[null,null,null,null,null,null,null,null,null,null,null,null,null,null,"ＣＤ",null,{"$f":"①!Q27","v":"再加入"},null,"職","種",null,null,null,null,{"$f":"①!Y27","v":"０９８７６５４３２１"}]
[null,null,null,1,null,null,null,null,null,null,null,"（円）","19\n・\n20",null,"年",null,"月",null,"日","有：「1」\n\n無：未記入",null,null,"有：「1」\n\n無：「0」",null,null,{"$f":"①!Z28","v":""},null,null,null,null,null,null,null,"（円）","19\n・\n20",null,"年",null,"月",null,"日","有：「1」\n\n無：未記入",null,null,"有：「1」\n\n無：「0」",null,null,{"$f":"①!AV28","v":""},null,null,null,null,null,null,null,"（円）","19\n・\n20",null,"年",null,"月",null,"日","有：「1」\n\n無：未記入",null,null,"有：「1」\n\n無：「0」"]
[null,null,null,null,null,null,null,null,{"$f":"①!I29","v":5},0,0,0,null,null,null,null,null,null,null,null,null,null,null,null,null,null,null,{"$f":"①!AB29","v":""},{"$f":"①!AC29","v":""},{"$f":"①!AD29","v":""},{"$f":"①!AE29","v":""},{"$f":"①!AF29","v":""},{"$f":"①!AG29","v":""},{"$f":"①!AH29","v":""},null,null,null,null,null,null,null,null,null,null,null,null,null,null,null,{"$f":"①!AX29","v":""},{"$f":"①!AY29","v":""},{"$f":"①!AZ29","v":""},{"$f":"①!BA29","v":""},{"$f":"①!BB29","v":""},{"$f":"①!BC29","v":""},{"$f":"①!BD29","v":""}]
[]
[null,null,null,"加入者\n住　所",null,null,"（フリガナ）"]
[null,null,null,null,null,null,null,null,null,null,null,null,null,null,null,null,null,null,null,null,null,"都","道"]
[null,null,null,null,null,null,null,null,null,null,null,null,null,null,null,null,null,null,null,null,null,"府","県"]
[]
[null,null,null,"（フリガナ）",null,{"$f":"①!F35","v":"スズキ"},null,null,null,null,{"$f":"①!K35","v":"イチロウ"},null,null,null,{"$f":"①!O35","v":"19"},null,null,"年",null,"月",null,"日",{"$f":"①!W35","v":"男"},null,20,null,null,"年",null,"月",null,"日","19\n・\n20",null,null,"年",null,"月",null,"日"]
[null,null,null,"（氏）",{"$f":"①!E36","v":"鈴木"},null,null,null,null,"（名）",{"$f":"①!K36","v":"一郎"},null,null,null,null,null,{"$f":"①!Q36","v":"99"},null,{"$f":"①!S36","v":"10"},null,{"$f":"①!U36","v":"09"},null,null,null,null,null,{"$f":"①!AA36","v":"20"},null,{"$f":"①!AC36","v":"04"},null,{"$f":"①!AE36","v":"01"}]
[]
[null,null,null,null,null,null,null,null,null,null,null,null,null,null,"ＣＤ",null,{"$f":"①!Q38","v":"転入"},null,"職","種",null,null,null,null,{"$f":"①!Y38","v":"３４５６７８９０１２"}]
[null,null,null,1,null,null,null,null,null,null,null,"（円）","19\n・\n20",null,"年",null,"月",null,"日","有：「1」\n\n無：未記入",null,null,"有：「1」\n\n無：「0」",null,null,{"$f":"①!Z39","v":""},null,null,null,null,null,null,null,"（円）","19\n・\n20",null,"年",null,"月",null,"日","有：「1」\n\n無：未記入",null,null,"有：「1」\n\n無：「0」",null,null,{"$f":"①!AV39","v":""},null,null,null,null,null,null,null,"（円）","19\n・\n20",null,"年",null,"月",null,"日","有：「1」\n\n無：未記入",null,null,"有：「1」\n\n無：「0」"]
[null,null,null,null,null,null,null,null,{"$f":"①!I40","v":5},0,0,0,null,null,null,null,null,null,null,null,null,null,null,null,null,null,null,{"$f":"①!AB40","v":""},{"$f":"①!AC40","v":""},{"$f":"①!AD40","v":""},{"$f":"①!AE40","v":""},{"$f":"①!AF40","v":""},{"$f":"①!AG40","v":""},{"$f":"①!AH40","v":""},null,null,null,null,null,null,null,null,null,null,null,null,null,null,null,{"$f":"①!AX40","v":""},{"$f":"①!AY40","v":""},{"$f":"①!AZ40","v":""},{"$f":"①!BA40","v":""},{"$f":"①!BB40","v":""},{"$f":"①!BC40","v":""},{"$f":"①!BD40","v":""}]
[]
[null,null,null,"加入者\n住　所",null,null,"（フリガナ）"]
[null,null,null,null,null,null,null,null,null,null,null,null,null,null,null,null,null,null,null,null,null,"都","道"]
[null,null,null,null,null,null,null,null,null,null,null,null,null,null,null,null,null,null,null,null,null,"府","県"]
[]
[null,null,null,"（フリガナ）",null,{"$f":"①!F46","v":"サトウ"},null,null,null,null,{"$f":"①!K46","v":"ユリコ"},null,null,null,{"$f":"①!O46","v":"20"},null,null,"年",null,"月",null,"日",{"$f":"①!W46","v":"女"},null,20,null,null,"年",null,"月",null,"日","19\n・\n20",null,null,"年",null,"月",null,"日"]
[null,null,null,"（氏）",{"$f":"①!E47","v":"佐藤"},null,null,null,null,"（名）",{"$f":"①!K47","v":"ゆり子"},null,null,null,null,null,{"$f":"①!Q47","v":"00"},null,{"$f":"①!S47","v":"01"},null,{"$f":"①!U47","v":"01"},null,null,null,null,null,{"$f":"①!AA47","v":"20"},null,{"$f":"①!AC47","v":"04"},null,{"$f":"①!AE47","v":"01"}]
[]
[null,null,null,null,null,null,null,null,null,null,null,null,null,null,"ＣＤ",null,{"$f":"①!Q49","v":""},null,"職","種",null,null,null,null,{"$f":"①!Y49","v":"０６５４３２１９８７"}]
[null,null,null,1,null,null,null,null,null,null,null,"（円）","19\n・\n20",null,"年",null,"月",null,"日","有：「1」\n\n無：未記入",null,null,"有：「1」\n\n無：「0」",null,null,{"$f":"①!Z50","v":""},null,null,null,null,null,null,null,"（円）","19\n・\n20",null,"年",null,"月",null,"日","有：「1」\n\n無：未記入",null,null,"有：「1」\n\n無：「0」",null,null,{"$f":"①!AV50","v":""},null,null,null,null,null,null,null,"（円）","19\n・\n20",null,"年",null,"月",null,"日","有：「1」\n\n無：未記入",null,null,"有：「1」\n\n無：「0」"]
[null,null,null,null,null,null,null,null,{"$f":"①!I51","v":5},0,0,0,null,null,null,null,null,null,null,null,null,null,null,null,null,null,null,{"$f":"①!AB51","v":""},{"$f":"①!AC51","v":""},{"$f":"①!AD51","v":""},{"$f":"①!AE51","v":""},{"$f":"①!AF51","v":""},{"$f":"①!AG51","v":""},{"$f":"①!AH51","v":""},null,null,null,null,null,null,null,null,null,null,null,null,null,null,null,{"$f":"①!AX51","v":""},{"$f":"①!AY51","v":""},{"$f":"①!AZ51","v":""},{"$f":"①!BA51","v":""},{"$f":"①!BB51","v":""},{"$f":"①!BC51","v":""},{"$f":"①!BD51","v":""}]
[]
[null,null,null,"加入者\n住　所",null,null,"（フリガナ）"]
[null,null,null,null,null,null,null,null,null,null,null,null,null,null,null,null,null,null,null,null,null,"都","道"]
[null,null,null,null,null,null,null,null,null,null,null,null,null,null,null,null,null,null,null,null,null,"府","県"]
[]
["　　　　　　　　　　　　　　　　　　　　　　　　　　　　　　　　　　　　　　　　　　　　　　　　　　　　　　　　　　　　　　",null,"事業所所在地",null,null,null,null,{"$f":"①!H57","v":"123-4567"},null,null,null,null,{"$f":"①!M57","v":"　山形県○○市○○３丁目２０番５号"},null,null,null,null,null,null,null,null,null,null,null,null,null,null,null,null,null,null,null,null,null,null,null,null,null,null,null,null,{"$f":"①!AP57","v":"2020-04-01"},null,null,null,null,null,null,null,null,null,null,"提出"]
[null,null,"事業所名称",null,null,null,null,{"$f":"①!H58","v":"　ABC株式会社"}]
[null,null,"事業主氏名",null,null,null,null,{"$f":"①!H59","v":"　代表取締役社長　　山田　太郎"},null,null,null,null,null,null,null,null,null,null,null,null,null,null,null,null,null,null,"殿",null,null,null,null,null,null,null,null,null,null,null,null,null,null,null,null,null,null,null,null,null,null,null,"（基　金）"]
[null,null,"電話",null,null,null,null,{"$f":"①!H60","v":"　02-3232-1234"},null,null,null,null,null,null,null,null,null,null,null,null,null,null,null,null,null,null,null,null,null,null,null,null,null,null,null,null,null,null,null,null,null,null,null,null,null,null,null,null,null,null,"（理事長）",null,null,null,null,null,null,null,"㊞"]